BEGIN:VCALENDAR
VERSION:2.0
PRODID:-//The Eclectic Chic Boutique - ECPv6.15.20//NONSGML v1.0//EN
CALSCALE:GREGORIAN
METHOD:PUBLISH
X-ORIGINAL-URL:https://theeclecticchicboutique.com
X-WR-CALDESC:Events for The Eclectic Chic Boutique
REFRESH-INTERVAL;VALUE=DURATION:PT1H
X-Robots-Tag:noindex
X-PUBLISHED-TTL:PT1H
BEGIN:VTIMEZONE
TZID:America/New_York
BEGIN:DAYLIGHT
TZOFFSETFROM:-0500
TZOFFSETTO:-0400
TZNAME:EDT
DTSTART:20240310T070000
END:DAYLIGHT
BEGIN:STANDARD
TZOFFSETFROM:-0400
TZOFFSETTO:-0500
TZNAME:EST
DTSTART:20241103T060000
END:STANDARD
BEGIN:DAYLIGHT
TZOFFSETFROM:-0500
TZOFFSETTO:-0400
TZNAME:EDT
DTSTART:20250309T070000
END:DAYLIGHT
BEGIN:STANDARD
TZOFFSETFROM:-0400
TZOFFSETTO:-0500
TZNAME:EST
DTSTART:20251102T060000
END:STANDARD
BEGIN:DAYLIGHT
TZOFFSETFROM:-0500
TZOFFSETTO:-0400
TZNAME:EDT
DTSTART:20260308T070000
END:DAYLIGHT
BEGIN:STANDARD
TZOFFSETFROM:-0400
TZOFFSETTO:-0500
TZNAME:EST
DTSTART:20261101T060000
END:STANDARD
END:VTIMEZONE
BEGIN:VEVENT
DTSTART;TZID=America/New_York:20250316T130000
DTEND;TZID=America/New_York:20250316T160000
DTSTAMP:20260423T050414
CREATED:20250220T202812Z
LAST-MODIFIED:20250220T202812Z
UID:10000243-1742130000-1742140800@theeclecticchicboutique.com
SUMMARY:Spring Stained Glass Suncatcher Workshop
DESCRIPTION:Get ready for spring with a hands-on stained glass workshop where you’ll craft your own sparkly suncatcher inspired by budding flora and fauna. Whether you’re drawn to the charm of a whimsical mushroom\, delicate cherry blossom\, or buzzing bumblebee\, you’ll bring your favorite springtime motif to life in stunning stained glass. \nIn this 3-hour class\, you’ll learn every step of the stained glass-making process:\n🌸 Cut glass into intricate shapes.\n🌸 Grind your pieces for smooth\, precise edges.\n🌸 Foil your design to prepare it for soldering.\n🌸 Solder your piece into a beautiful\, polished work of art. \nPerfect for beginners and seasoned creators alike\, this workshop provides all the tools\, materials\, and guidance you need to make your own stained glass piece\, the perfect way to bring spring into your home \nWhat you will be using in class: Participants will be using a variety of teacher-supplied tools and materials including glass\, glass cutters\, pliers\, safety goggles/masks\, glass grinders\, and soldering irons. \nWhat participants need to prepare: Participants don’t need to bring anything\, however it’s strongly recommended to wear closed-toed shoes and long pants. Participants will be given disposable masks for the soldering portion\, but can bring their own face masks if they’d like. This is a mostly standing activity \nWhat you will make and take home: Each participant will be making one stained glass Suncatcher in the pattern of their choice \n___ \nPARTICIPATION \nThis In Person Class takes place at The Eclectic Chic Boutique located at 547 Bloomfield Ave\, Montclair NJ. \nAPPROPRIATE AGES FOR PARTICIPATION  \nThis class is appropriate for Adults and Teens to participate in. Participants must be at least 21 years old or older and can work independently. If a participant needs a caretaker or parent to assist with the project the assisting person does not need a ticket.  \nCANCELATION & RESCHEDULING \nIt is the Participant’s responsibility to contact us prior to the event if they are unable to attend for any reason. If we as the Organizers need to reschedule an event participants will be notified. \nParticipants are eligible for a refund if the request is submitted up to 7 days in advance of the class date. Participants who submit a request 6 days or less in advance are eligible for a 50% refund or an opportunity to apply credit to a future class. If participants cancel the day of the class or do not show up during the class time they are ineligible for a refund. \nCONTACT US \nHere at The Eclectic Chic Boutique\, we offer workshops\, DIY kits\, and private sessions. You can contact us at: Kristen@TheEclecticChicBoutique.com or 862-221-0644 for more information or to book. Visit us for details on events\, classes\, and shopping. www.TheEclecticChicBoutique.com \n* Please note photos are examples of the project and will vary depending on available materials and your own interpretation.
URL:https://theeclecticchicboutique.com/event/spring-stained-glass-suncatcher-workshop/
LOCATION:The Eclectic Chic Boutique\, 547 Bloomfield Avenue\, Montclair\, NJ\, 07042\, United States
CATEGORIES:Adult,Sculpture and 3D Art,Special Event,Workshop
ATTACH;FMTTYPE=image/png:https://theeclecticchicboutique.com/wp-content/uploads/2025/02/Spring-Stained-Glass-Suncatcher-Workshop.png
GEO:40.8154765;-74.2193579
X-APPLE-STRUCTURED-LOCATION;VALUE=URI;X-ADDRESS=The Eclectic Chic Boutique 547 Bloomfield Avenue Montclair NJ 07042 United States;X-APPLE-RADIUS=500;X-TITLE=547 Bloomfield Avenue:geo:-74.2193579,40.8154765
END:VEVENT
BEGIN:VEVENT
DTSTART;TZID=America/New_York:20250316T140000
DTEND;TZID=America/New_York:20250316T190000
DTSTAMP:20260423T050414
CREATED:20250227T200505Z
LAST-MODIFIED:20250312T172314Z
UID:10000247-1742133600-1742151600@theeclecticchicboutique.com
SUMMARY:Made by Jamie Pop Up
DESCRIPTION:Shop from local artist “Made by Jamie”. Jamie creates a variety of handmade and sublimated items\, including tumblers\, can glasses\, shot glasses\, wine glasses\, keychains\, and more. Her creations incorporate glitter\, metallics and sassy quotes. \nA portion of her sales go to “Damiens Voice” https://www.instagram.com/damiensvoice/ a loving tribute to her late son and advocate for trans youth. \nThis is a free outdoor shopping event.
URL:https://theeclecticchicboutique.com/event/made-by-jamie-pop-up-3/2025-03-16/
LOCATION:The Eclectic Chic Boutique\, 547 Bloomfield Avenue\, Montclair\, NJ\, 07042\, United States
CATEGORIES:Pop Up,Shopping
ATTACH;FMTTYPE=image/png:https://theeclecticchicboutique.com/wp-content/uploads/2024/07/Made-by-Jamie-Pop-Up.png
GEO:40.8154765;-74.2193579
X-APPLE-STRUCTURED-LOCATION;VALUE=URI;X-ADDRESS=The Eclectic Chic Boutique 547 Bloomfield Avenue Montclair NJ 07042 United States;X-APPLE-RADIUS=500;X-TITLE=547 Bloomfield Avenue:geo:-74.2193579,40.8154765
END:VEVENT
END:VCALENDAR