BEGIN:VCALENDAR
VERSION:2.0
PRODID:-//The Eclectic Chic Boutique - ECPv6.15.20//NONSGML v1.0//EN
CALSCALE:GREGORIAN
METHOD:PUBLISH
X-ORIGINAL-URL:https://theeclecticchicboutique.com
X-WR-CALDESC:Events for The Eclectic Chic Boutique
REFRESH-INTERVAL;VALUE=DURATION:PT1H
X-Robots-Tag:noindex
X-PUBLISHED-TTL:PT1H
BEGIN:VTIMEZONE
TZID:America/New_York
BEGIN:DAYLIGHT
TZOFFSETFROM:-0500
TZOFFSETTO:-0400
TZNAME:EDT
DTSTART:20240310T070000
END:DAYLIGHT
BEGIN:STANDARD
TZOFFSETFROM:-0400
TZOFFSETTO:-0500
TZNAME:EST
DTSTART:20241103T060000
END:STANDARD
BEGIN:DAYLIGHT
TZOFFSETFROM:-0500
TZOFFSETTO:-0400
TZNAME:EDT
DTSTART:20250309T070000
END:DAYLIGHT
BEGIN:STANDARD
TZOFFSETFROM:-0400
TZOFFSETTO:-0500
TZNAME:EST
DTSTART:20251102T060000
END:STANDARD
BEGIN:DAYLIGHT
TZOFFSETFROM:-0500
TZOFFSETTO:-0400
TZNAME:EDT
DTSTART:20260308T070000
END:DAYLIGHT
BEGIN:STANDARD
TZOFFSETFROM:-0400
TZOFFSETTO:-0500
TZNAME:EST
DTSTART:20261101T060000
END:STANDARD
END:VTIMEZONE
BEGIN:VEVENT
DTSTART;TZID=America/New_York:20250321T190000
DTEND;TZID=America/New_York:20250321T203000
DTSTAMP:20260422T224311
CREATED:20250207T185544Z
LAST-MODIFIED:20250207T185544Z
UID:10000219-1742583600-1742589000@theeclecticchicboutique.com
SUMMARY:Game Nights: Dungeons and Dragons
DESCRIPTION:Adventurers! Join us for a fun and fantastical one shot D&D campaign. We embrace the quirky\, the chaotic\, and the downright silly. Expect unexpected twists and hilarious roleplaying moments. Whether you’re a seasoned adventurer or a curious newcomer\, come join the fun! No experience is necessary\, and we welcome players of all skill levels. If you need help with making a character\, our friendly DM will happily work with you to create your own character sheet or provide you a premade one. We’re all about having a good laugh and creating unforgettable memories together. This is a safe space for all\, including LGBTQIA+ and Neurodiverse folk. \nWhat you will be using in class: Participants will be using character sheets\, and character models. \nWhat you will bring: Participants will need to bring their own dice (or can purchase dice at the store for 15% off)\, bring their own snacks and drinks (if they wish to have some munchies)\, and are encouraged to bring their own models if they have them. \nUpon sign up: Participants will be sent a discord invite and a consent form to fill out. This allows you to directly speak with the DM and establish what you are comfortable with in a Dungeons and Dragons game. \n___ \nPARTICIPATION \nThis game session is held In Person at The Eclectic Chic Boutique located at 547 Bloomfield Ave\, Montclair NJ.  \nAPPROPRIATE AGES FOR PARTICIPATION  \nThis class is appropriate for Adults to participate in. Participants must be at least 21 years old or older and can work independently. If a participant needs a caretaker or parent to assist the caretaker does not need a ticket.  \nCANCELATION & RESCHEDULING \nIt is the Participant’s responsibility to contact us prior to the event if they are unable to attend for any reason. If we as the Organizers need to reschedule an event participants will be notified. \nParticipants are eligible for a refund if the request is submitted up to 7 days in advance of the class date. Participants who submit a request 6 days or less in advance are eligible for a 50% refund or an opportunity to apply credit to a future class. If participants cancel the day of the class or do not show up during the class time they are ineligible for a refund.  \nCONTACT US \nYou can contact us at: Kristen@TheEclecticChicBoutique.com or 862-221-0644 for more information or to book. Visit us for details on events\, classes\, and shopping. www.TheEclecticChicBoutique.com \n* Please note photos are examples of the project and will vary depending on available materials and your own interpretation.
URL:https://theeclecticchicboutique.com/event/game-nights-dungeons-and-dragons/
LOCATION:The Eclectic Chic Boutique\, 547 Bloomfield Avenue\, Montclair\, NJ\, 07042\, United States
CATEGORIES:Adult,Game Night,Special Event
ATTACH;FMTTYPE=image/png:https://theeclecticchicboutique.com/wp-content/uploads/2025/02/Game-Nights-Dungeons-Dragons.png
GEO:40.8154765;-74.2193579
X-APPLE-STRUCTURED-LOCATION;VALUE=URI;X-ADDRESS=The Eclectic Chic Boutique 547 Bloomfield Avenue Montclair NJ 07042 United States;X-APPLE-RADIUS=500;X-TITLE=547 Bloomfield Avenue:geo:-74.2193579,40.8154765
END:VEVENT
END:VCALENDAR