BEGIN:VCALENDAR
VERSION:2.0
PRODID:-//The Eclectic Chic Boutique - ECPv6.15.20//NONSGML v1.0//EN
CALSCALE:GREGORIAN
METHOD:PUBLISH
X-ORIGINAL-URL:https://theeclecticchicboutique.com
X-WR-CALDESC:Events for The Eclectic Chic Boutique
REFRESH-INTERVAL;VALUE=DURATION:PT1H
X-Robots-Tag:noindex
X-PUBLISHED-TTL:PT1H
BEGIN:VTIMEZONE
TZID:America/New_York
BEGIN:DAYLIGHT
TZOFFSETFROM:-0500
TZOFFSETTO:-0400
TZNAME:EDT
DTSTART:20240310T070000
END:DAYLIGHT
BEGIN:STANDARD
TZOFFSETFROM:-0400
TZOFFSETTO:-0500
TZNAME:EST
DTSTART:20241103T060000
END:STANDARD
BEGIN:DAYLIGHT
TZOFFSETFROM:-0500
TZOFFSETTO:-0400
TZNAME:EDT
DTSTART:20250309T070000
END:DAYLIGHT
BEGIN:STANDARD
TZOFFSETFROM:-0400
TZOFFSETTO:-0500
TZNAME:EST
DTSTART:20251102T060000
END:STANDARD
BEGIN:DAYLIGHT
TZOFFSETFROM:-0500
TZOFFSETTO:-0400
TZNAME:EDT
DTSTART:20260308T070000
END:DAYLIGHT
BEGIN:STANDARD
TZOFFSETFROM:-0400
TZOFFSETTO:-0500
TZNAME:EST
DTSTART:20261101T060000
END:STANDARD
END:VTIMEZONE
BEGIN:VEVENT
DTSTART;TZID=America/New_York:20250413T140000
DTEND;TZID=America/New_York:20250413T190000
DTSTAMP:20260422T182042
CREATED:20250402T172808Z
LAST-MODIFIED:20250403T145420Z
UID:10000257-1744552800-1744570800@theeclecticchicboutique.com
SUMMARY:Nitjuan Designs Pop Up
DESCRIPTION:Join us for a mystical pop up from local spiritual creator Nitjuan Designs. Explore Nitjuan Designs creations featuring handcrafted treasures\, holistic wellness\, and sacred rituals. Each piece is crafted with love and intention to support your spiritual journey. \nThis is a outdoor shopping event that is free to attend.
URL:https://theeclecticchicboutique.com/event/nitjuan-designs-pop-up/
LOCATION:The Eclectic Chic Boutique\, 547 Bloomfield Avenue\, Montclair\, NJ\, 07042\, United States
CATEGORIES:Crystals and Wellness,Pop Up,Shopping
ATTACH;FMTTYPE=image/png:https://theeclecticchicboutique.com/wp-content/uploads/2025/03/Nitjuan-Designs-Pop-Up-1-1.png
GEO:40.8154765;-74.2193579
X-APPLE-STRUCTURED-LOCATION;VALUE=URI;X-ADDRESS=The Eclectic Chic Boutique 547 Bloomfield Avenue Montclair NJ 07042 United States;X-APPLE-RADIUS=500;X-TITLE=547 Bloomfield Avenue:geo:-74.2193579,40.8154765
END:VEVENT
BEGIN:VEVENT
DTSTART;TZID=America/New_York:20250413T143000
DTEND;TZID=America/New_York:20250413T160000
DTSTAMP:20260422T182042
CREATED:20250312T212848Z
LAST-MODIFIED:20250312T212848Z
UID:10000253-1744554600-1744560000@theeclecticchicboutique.com
SUMMARY:How to Pot and Care for Your House Plants Workshop
DESCRIPTION:Discover the joy of indoor gardening! Learn essential potting techniques and care tips to keep your houseplants thriving. This hands-on workshop will cover soil selection\, watering\, lighting\, and more. Each participant will receive two starter houseplants and pots to create their own mini indoor gardens to take home. \n___ \nPARTICIPATION \nThis class can be attended In Person at The Eclectic Chic Boutique located at 547 Bloomfield Ave\, Montclair NJ or Virtually on Zoom.  \nAPPROPRIATE AGES FOR PARTICIPATION  \nThis class is appropriate for Adults and Teens to participate in. Participants must be at least 13 years old or older and can work independently. If a participant needs a caretaker or parent to assist with the project the assisting person does not need a ticket.  \nCANCELATION & RESCHEDULING \nIt is the Participant’s responsibility to contact us prior to the event if they are unable to attend for any reason. If we as the Organizers need to reschedule an event participants will be notified. \nParticipants are eligible for a refund if the request is submitted up to 7 days in advance of the class date. Participants who submit a request 6 days or less in advance are eligible for a 50% refund or an opportunity to apply credit to a future class. If participants cancel the day of the class or do not show up during the class time they are ineligible for a refund.  \nCONTACT US \nHere at The Eclectic Chic Boutique\, we offer workshops\, DIY kits\, and private sessions. You can contact us at: Kristen@TheEclecticChicBoutique.com or 862-221-0644 for more information or to book. Visit us for details on events\, classes\, and shopping. www.TheEclecticChicBoutique.com \n* Please note photos are examples of the project and will vary depending on available materials and your own interpretation.
URL:https://theeclecticchicboutique.com/event/how-to-pot-and-care-for-your-house-plants-workshop/
LOCATION:The Eclectic Chic Boutique\, 547 Bloomfield Avenue\, Montclair\, NJ\, 07042\, United States
CATEGORIES:Adult,Family,Teen,Workshop
ATTACH;FMTTYPE=image/png:https://theeclecticchicboutique.com/wp-content/uploads/2025/03/How-to-Pot-and-Care-for-Your-House-Plants-Workshop.png
GEO:40.8154765;-74.2193579
X-APPLE-STRUCTURED-LOCATION;VALUE=URI;X-ADDRESS=The Eclectic Chic Boutique 547 Bloomfield Avenue Montclair NJ 07042 United States;X-APPLE-RADIUS=500;X-TITLE=547 Bloomfield Avenue:geo:-74.2193579,40.8154765
END:VEVENT
END:VCALENDAR