BEGIN:VCALENDAR
VERSION:2.0
PRODID:-//The Eclectic Chic Boutique - ECPv6.15.20//NONSGML v1.0//EN
CALSCALE:GREGORIAN
METHOD:PUBLISH
X-WR-CALNAME:The Eclectic Chic Boutique
X-ORIGINAL-URL:https://theeclecticchicboutique.com
X-WR-CALDESC:Events for The Eclectic Chic Boutique
REFRESH-INTERVAL;VALUE=DURATION:PT1H
X-Robots-Tag:noindex
X-PUBLISHED-TTL:PT1H
BEGIN:VTIMEZONE
TZID:America/New_York
BEGIN:DAYLIGHT
TZOFFSETFROM:-0500
TZOFFSETTO:-0400
TZNAME:EDT
DTSTART:20250309T070000
END:DAYLIGHT
BEGIN:STANDARD
TZOFFSETFROM:-0400
TZOFFSETTO:-0500
TZNAME:EST
DTSTART:20251102T060000
END:STANDARD
BEGIN:DAYLIGHT
TZOFFSETFROM:-0500
TZOFFSETTO:-0400
TZNAME:EDT
DTSTART:20260308T070000
END:DAYLIGHT
BEGIN:STANDARD
TZOFFSETFROM:-0400
TZOFFSETTO:-0500
TZNAME:EST
DTSTART:20261101T060000
END:STANDARD
BEGIN:DAYLIGHT
TZOFFSETFROM:-0500
TZOFFSETTO:-0400
TZNAME:EDT
DTSTART:20270314T070000
END:DAYLIGHT
BEGIN:STANDARD
TZOFFSETFROM:-0400
TZOFFSETTO:-0500
TZNAME:EST
DTSTART:20271107T060000
END:STANDARD
END:VTIMEZONE
BEGIN:VEVENT
DTSTART;TZID=America/New_York:20260422T190000
DTEND;TZID=America/New_York:20260422T203000
DTSTAMP:20260419T193944
CREATED:20260307T164950Z
LAST-MODIFIED:20260307T164950Z
UID:10000386-1776884400-1776889800@theeclecticchicboutique.com
SUMMARY:Art Club
DESCRIPTION:Step away from the screen and into a community built for local artists. Join us for a monthly meetup built for creatives who want more than just “likes.” This club is a hub for inspiration and artistic growth. We’re moving past social media to create a physical space where artists can collaborate on new ventures\, share artistic skills\, and potentially find opportunities within our own community. \nCome for the inspiration\, stay for the partnership and support. This event is LGBTQAI+ and Neurodiverse Friendly. \nWe welcome artists in all kinds of mediums like drawing\, digital art\, painting\, crocheting\, embroidery\, sewing\, jewelry making\, and more! \n \n🎒 What Do I need to Bring?\nBring any art supplies you like to use or a project you are working on. Our classroom has a handwash sink\, access to outlets\, wifi\, some tools and art supplies if you need anything to supplement your work. If you don’t have a project or art supplies we have DIY Art Kits available for purchase and some art supplies in our studio. \n🎨 When Will the Club Meet?\nJoin us on the last Wednesday of every month. \n📱How Will The Club Stay in Contact?\nWe use Discord as our main HQ for updates and contests. If Discord isn’t your thing\, please provide your email so we can keep you posted on club dates\, reschedules\, and upcoming opportunities. \n👪 What Age Group Can Participate In Art Club?\nThis class is appropriate for Adults and Teens to participate in. Participants must be at least 16 years old or older and can work independently. If a participant needs a caretaker or parent to assist with the project the assisting person does not need a ticket. \n🧑‍🏫 Who is facilitating Art Club?\nKatie Tedesco \n\nHello! My name is Katie Tedesco\, a professional graphic designer with over 10 years of experience. I’ve designed products for companies including Disney\, Universal\, Sanrio\, and Warner Bros. for major retail chains. In 2015\, I founded my freelance business\, KT Designs. I sell my custom designs on Etsy\, with over 30\,000 sales and 5\,000 five-star reviews\, as well as through local boutiques like The Eclectic Chic Boutique and at craft shows. I’m new to teaching and excited to share my knowledge and professional experience. \n🗺️ Where Does This Class Take Place?\nThis In Person Class takes place at The Eclectic Chic Boutique located at 547 Bloomfield Ave\, Montclair NJ. \n🧋 Can I Bring a Beverage or a Snack?\nOf course! \n🚗 Where Do I Park?\nWe recommend parking in either the Maple Place Lot\, located around the corner from the shop\, or the Midtown Deck at 202 Glenridge Avenue Montclair. You can find more parking options on https://montclaircenter.com/parking/ \n📅 What Happens If I Need to Cancel?\nIt is the Participant’s responsibility to contact us prior to the event if they are unable to attend for any reason. If we as the Organizers need to cancel or reschedule an event participants will be notified of any changes using the contact info provided to us in the ticket purchase. \n📱 How Do I Contact You?\nYou can email us at Kristen@TheEclecticChicBoutique.com or call/text us at 862-221-0644\nVisit us for details on events\, classes\, and shopping. www.TheEclecticChicBoutique.com \n🖼️ Note About Photos:\nPhotos used in this event listing are an example of what you can make and may vary depending on material and supply availability and your own interpretation of the project.
URL:https://theeclecticchicboutique.com/event/art-club-2/
LOCATION:The Eclectic Chic Boutique\, 547 Bloomfield Avenue\, Montclair\, NJ\, 07042\, United States
CATEGORIES:Adult,Community Event,Digital Arts & Technology,Neurodiverse Friendly,Painting, Drawing, Paper Crafts,Sculpture and 3D Art,Teen,Workshop
ATTACH;FMTTYPE=image/png:https://theeclecticchicboutique.com/wp-content/uploads/2026/03/April-The-Eclectic-Chic-Boutique-Art-Club.png
GEO:40.8154765;-74.2193579
X-APPLE-STRUCTURED-LOCATION;VALUE=URI;X-ADDRESS=The Eclectic Chic Boutique 547 Bloomfield Avenue Montclair NJ 07042 United States;X-APPLE-RADIUS=500;X-TITLE=547 Bloomfield Avenue:geo:-74.2193579,40.8154765
END:VEVENT
BEGIN:VEVENT
DTSTART;TZID=America/New_York:20260423T190000
DTEND;TZID=America/New_York:20260423T204500
DTSTAMP:20260419T193944
CREATED:20260307T170730Z
LAST-MODIFIED:20260307T170730Z
UID:10000389-1776970800-1776977100@theeclecticchicboutique.com
SUMMARY:Sustainable Style: Statement Pendant Class
DESCRIPTION:Join us for a creative Earth Day workshop where sustainability meets style. Participants will design and build a statement pendent using thoughtfully sourced upcycled materials. Along the way\, you will learn essential jewelry making techniques and simple design principles to help your piece feel balanced and unique. Perfect for beginners and anyone who loves wearable art. \n \n🎨 What Will I Make in the Class?\nEach participant will design and complete one upcycled statement pendent necklace. The finished piece will feature a focal element created from reclaimed materials and will be fully assembled with chain and a functional clasp\, ready to wear at home. \n🎁 What Will I Take Home?\nEveryone leaves with one upcycled pendant they created. \n🎁 What Should I Bring?\nParticipants don’t need to bring anything. \n👪 What Age Group Can Participate In This Class?\nThis class is appropriate for Adults 21+ to participate in. \n🧑‍🏫 Who is Teaching This Class? \nEnzo Crushello \n \nA lifelong maker at heart\, Enzo’s creative journey began with the imaginative structures of childhood play and evolved into a sophisticated practice of jewelry design and mixed-media craftsmanship. From his early experiments with form and texture to formal training in glass bead making\, Enzo’s work is defined by a deep curiosity and a passion for reimagining materials. By skillfully blending the old with the new\, he transforms unconventional finds into contemporary art\, treating every piece as a fresh exploration of technique\, storytelling\, and the joy of discovery. \n🗺️ Where Does This Class Take Place?\nThis In Person Class takes place at The Eclectic Chic Boutique located at 547 Bloomfield Ave\, Montclair NJ. \n🧋 Can I Bring a Beverage or a Snack?\nNo. \n🚗 Where Do I Park?\nWe recommend parking in either the Maple Place Lot\, located around the corner from the shop\, or the Midtown Deck at 202 Glenridge Avenue Montclair. You can find more parking options on https://montclaircenter.com/parking/ \n📅 What Happens If I Need to Cancel?\nIt is the Participant’s responsibility to contact us prior to the event if they are unable to attend for any reason. If we as the Organizers need to cancel or reschedule an event participants will be notified of any changes using the contact info provided to us in the ticket purchase.\nParticipants are eligible for a refund if the request is submitted 7 days in advance of the class date. Participants who submit a request 6 days or less in advance are eligible for a 50% refund or an opportunity to apply credit to a future class. If a participant cancels the day of the class or does not show up during the class time they are ineligible for a refund. \n📱 How Do I Contact You?\nYou can email us at Kristen@TheEclecticChicBoutique.com or call/text us at 862-221-0644\nVisit us for details on events\, classes\, and shopping. www.TheEclecticChicBoutique.com
URL:https://theeclecticchicboutique.com/event/sustainable-style-statement-pendant-class/
LOCATION:The Eclectic Chic Boutique\, 547 Bloomfield Avenue\, Montclair\, NJ\, 07042\, United States
CATEGORIES:Adult,Jewelry Making,Workshop
ATTACH;FMTTYPE=image/png:https://theeclecticchicboutique.com/wp-content/uploads/2026/03/Sustainable-Style-Statement-Pendant-Class.png
GEO:40.8154765;-74.2193579
X-APPLE-STRUCTURED-LOCATION;VALUE=URI;X-ADDRESS=The Eclectic Chic Boutique 547 Bloomfield Avenue Montclair NJ 07042 United States;X-APPLE-RADIUS=500;X-TITLE=547 Bloomfield Avenue:geo:-74.2193579,40.8154765
END:VEVENT
BEGIN:VEVENT
DTSTART;TZID=America/New_York:20260424T190000
DTEND;TZID=America/New_York:20260424T210000
DTSTAMP:20260419T193944
CREATED:20260307T171928Z
LAST-MODIFIED:20260307T171928Z
UID:10000388-1777057200-1777064400@theeclecticchicboutique.com
SUMMARY:Game Night: Dungeons and Dragons
DESCRIPTION:Adventurers! Join us for a fun and fantastical one shot D&D campaign. We embrace the quirky\, the chaotic\, and the downright silly. No experience necessary\, we welcome players of all skill levels. We’re all about having a good laugh and creating unforgettable memories together. Players aged 16 and up are welcome to play. This is a safe space for all\, including LGBTQIA+ and Neurodiverse folk. \n🐲 Players will be playing the one shot The Chaotic Invasion: The village of Greenmeadow is ready for its annual Spring Festival. The central square is decorated with giant\, colorful eggs\, and the air smells of sweet pastries. Everything is peaceful until Barnaby “Lop-Ears”—a disgruntled ex-bard wearing a filthy rabbit disguise—decides to ruin the holiday. \n \n✒️ Upon sign up: Participants will be sent a discord invite and a consent form to fill out. This allows you to directly speak with the DM and establish what you are comfortable with in a Dungeons and Dragons game. \n🎨 What Will I Be Using?\nParticipants will be using character sheets\, dice and character models. \n🎁 What Should I Bring?\nParticipants will need to bring their own dice (or can purchase dice at the store for 15% off)\, and are encouraged to bring their own models if they have them. \n👪 What Age Group Can Participate In This Class?\nThis class is appropriate for Teens aged 16+ and Adults to participate in. \n🧑‍🏫 Who is Running this session?\nYour Dungeon Master is Carrie Lowther. \n \nI have been an artist for as long as I can remember\, transitioning into digital art world well over a decade ago. I’m largely self-taught and in addition to being a digital artist\, I am dungeon master for D&D. I’ve been doing that for a few years and love to let my players do some truly off the wall stuff. I live by the rule of cool! Between teaching and being a dungeon master\, I believe that people should be able to just throw themselves into whatever they are doing and enjoy what they create/discover. My favorite part of the process is watching a student find their own “aha!” moment when a new technique clicks. \n🗺️ Where Does This Class Take Place?\nThis In Person Class takes place at The Eclectic Chic Boutique located at 547 Bloomfield Ave\, Montclair NJ. \n🧋 Can I Bring a Beverage or a Snack?\nOf course! \n🚗 Where Do I Park?\nWe recommend parking in either the Maple Place Lot\, located around the corner from the shop\, or the Midtown Deck at 202 Glenridge Avenue Montclair. You can find more parking options on https://montclaircenter.com/parking/ \n📅 What Happens If I Need to Cancel?\nIt is the Participant’s responsibility to contact us prior to the event if they are unable to attend for any reason. If we as the Organizers need to cancel or reschedule an event participants will be notified of any changes using the contact info provided to us in the ticket purchase.\nParticipants are eligible for a refund if the request is submitted 7 days in advance of the class date. Participants who submit a request 6 days or less in advance are eligible for a 50% refund or an opportunity to apply credit to a future class. If a participant cancels the day of the class or does not show up during the class time they are ineligible for a refund. \n📱 How Do I Contact You?\nYou can email us at Kristen@TheEclecticChicBoutique.com or call/text us at 862-221-0644\nVisit us for details on events\, classes\, and shopping. www.TheEclecticChicBoutique.com
URL:https://theeclecticchicboutique.com/event/game-night-dungeons-and-dragons/
LOCATION:The Eclectic Chic Boutique\, 547 Bloomfield Avenue\, Montclair\, NJ\, 07042\, United States
CATEGORIES:Adult,Game Night,Special Event,Teen
ATTACH;FMTTYPE=image/png:https://theeclecticchicboutique.com/wp-content/uploads/2026/03/April-Game-Nights-Dungeons-Dragons.png
GEO:40.8154765;-74.2193579
X-APPLE-STRUCTURED-LOCATION;VALUE=URI;X-ADDRESS=The Eclectic Chic Boutique 547 Bloomfield Avenue Montclair NJ 07042 United States;X-APPLE-RADIUS=500;X-TITLE=547 Bloomfield Avenue:geo:-74.2193579,40.8154765
END:VEVENT
END:VCALENDAR