BEGIN:VCALENDAR
VERSION:2.0
PRODID:-//The Eclectic Chic Boutique - ECPv6.15.20//NONSGML v1.0//EN
CALSCALE:GREGORIAN
METHOD:PUBLISH
X-WR-CALNAME:The Eclectic Chic Boutique
X-ORIGINAL-URL:https://theeclecticchicboutique.com
X-WR-CALDESC:Events for The Eclectic Chic Boutique
REFRESH-INTERVAL;VALUE=DURATION:PT1H
X-Robots-Tag:noindex
X-PUBLISHED-TTL:PT1H
BEGIN:VTIMEZONE
TZID:America/New_York
BEGIN:DAYLIGHT
TZOFFSETFROM:-0500
TZOFFSETTO:-0400
TZNAME:EDT
DTSTART:20240310T070000
END:DAYLIGHT
BEGIN:STANDARD
TZOFFSETFROM:-0400
TZOFFSETTO:-0500
TZNAME:EST
DTSTART:20241103T060000
END:STANDARD
BEGIN:DAYLIGHT
TZOFFSETFROM:-0500
TZOFFSETTO:-0400
TZNAME:EDT
DTSTART:20250309T070000
END:DAYLIGHT
BEGIN:STANDARD
TZOFFSETFROM:-0400
TZOFFSETTO:-0500
TZNAME:EST
DTSTART:20251102T060000
END:STANDARD
BEGIN:DAYLIGHT
TZOFFSETFROM:-0500
TZOFFSETTO:-0400
TZNAME:EDT
DTSTART:20260308T070000
END:DAYLIGHT
BEGIN:STANDARD
TZOFFSETFROM:-0400
TZOFFSETTO:-0500
TZNAME:EST
DTSTART:20261101T060000
END:STANDARD
END:VTIMEZONE
BEGIN:VEVENT
DTSTART;TZID=America/New_York:20250819T170000
DTEND;TZID=America/New_York:20250819T190000
DTSTAMP:20260419T191016
CREATED:20250523T005348Z
LAST-MODIFIED:20250818T213024Z
UID:10000293-1755622800-1755630000@theeclecticchicboutique.com
SUMMARY:Clay Creations Craft Night
DESCRIPTION:Join us for a fun “Craft & Draft” DIY Clay Sculpture Making night\, hosted at Newark Local Beer. Learn to mold your own unique masterpiece using a vibrant palette of colored clays. Whether you envision a charming pinch pot\, a stylish pendant\, or a whimsical figurine\, a talented local artist from The Eclectic Chic Boutique will guide you every step of the way. While your clay creation sets\, kick back and enjoy a complimentary craft beer or refreshing seltzer\, courtesy of Newark Local Beer. Bring your friends\, connect with coworkers\, or come solo and discover your artistic side!\n\n\n$5 admission includes clay session and one beer or seltzer. $50+ value! Fee is non-refundable.
URL:https://theeclecticchicboutique.com/event/clay-creations-craft-night/
LOCATION:Newark Local Beer\, 538 Broad St\, Newark\, NJ\, 07102\, United States
CATEGORIES:Adult,Sculpture and 3D Art,Special Event,Workshop
ATTACH;FMTTYPE=image/jpeg:https://theeclecticchicboutique.com/wp-content/uploads/2025/05/clay.jpg
END:VEVENT
END:VCALENDAR