BEGIN:VCALENDAR
VERSION:2.0
PRODID:-//The Eclectic Chic Boutique - ECPv6.15.20//NONSGML v1.0//EN
CALSCALE:GREGORIAN
METHOD:PUBLISH
X-WR-CALNAME:The Eclectic Chic Boutique
X-ORIGINAL-URL:https://theeclecticchicboutique.com
X-WR-CALDESC:Events for The Eclectic Chic Boutique
REFRESH-INTERVAL;VALUE=DURATION:PT1H
X-Robots-Tag:noindex
X-PUBLISHED-TTL:PT1H
BEGIN:VTIMEZONE
TZID:America/New_York
BEGIN:DAYLIGHT
TZOFFSETFROM:-0500
TZOFFSETTO:-0400
TZNAME:EDT
DTSTART:20240310T070000
END:DAYLIGHT
BEGIN:STANDARD
TZOFFSETFROM:-0400
TZOFFSETTO:-0500
TZNAME:EST
DTSTART:20241103T060000
END:STANDARD
BEGIN:DAYLIGHT
TZOFFSETFROM:-0500
TZOFFSETTO:-0400
TZNAME:EDT
DTSTART:20250309T070000
END:DAYLIGHT
BEGIN:STANDARD
TZOFFSETFROM:-0400
TZOFFSETTO:-0500
TZNAME:EST
DTSTART:20251102T060000
END:STANDARD
BEGIN:DAYLIGHT
TZOFFSETFROM:-0500
TZOFFSETTO:-0400
TZNAME:EDT
DTSTART:20260308T070000
END:DAYLIGHT
BEGIN:STANDARD
TZOFFSETFROM:-0400
TZOFFSETTO:-0500
TZNAME:EST
DTSTART:20261101T060000
END:STANDARD
END:VTIMEZONE
BEGIN:VEVENT
DTSTART;TZID=America/New_York:20251113T190000
DTEND;TZID=America/New_York:20251113T203000
DTSTAMP:20260419T110347
CREATED:20250925T203523Z
LAST-MODIFIED:20250925T203523Z
UID:10000342-1763060400-1763065800@theeclecticchicboutique.com
SUMMARY:Fall Terrarium Making Workshop
DESCRIPTION:Join us at the boutique to build your own fall inspired mini terrarium. This terrarium is long lasting and no maintenance involved and no green thumb is required. You can use various dried mosses\, faux greenery\, miniatures\, and landscape elements to adorn your sphere and create a little fairy garden. Bring your date\, your friends\, your family\, or join in and make new friends. \nWhat you will be using in class: Participants will receive a clear globe ornament\, garden miniatures\, dried moss\, mini glass stones\, floral foam\, low temperature hot glue\, and a clear string\, or jute string to hang them from. \nWhat you will make and take home: Each participant will make one fall terrarium. \n___ \nPARTICIPATION \nThis In Person Class takes place at The Eclectic Chic Boutique located at 547 Bloomfield Ave\, Montclair NJ. \nAPPROPRIATE AGES FOR PARTICIPATION  \nThis class is appropriate for Adults and Teens to participate in. Participants must be at least 13 years old or older and can work independently. If a participant needs a caretaker or parent to assist with the project the assisting person does not need a ticket.  \nCANCELATION & RESCHEDULING \nIt is the Participant’s responsibility to contact us prior to the event if they are unable to attend for any reason. If we as the Organizers need to reschedule an event participants will be notified. \nParticipants are eligible for a refund if the request is submitted up to 7 days in advance of the class date. Participants who submit a request 6 days or less in advance are eligible for a 50% refund or an opportunity to apply credit to a future class. If participants cancel the day of the class or do not show up during the class time they are ineligible for a refund. \nCONTACT US \nHere at The Eclectic Chic Boutique\, we offer workshops\, DIY kits\, and private sessions. You can contact us at: Kristen@TheEclecticChicBoutique.com or 862-221-0644 for more information or to book. Visit us for details on events\, classes\, and shopping. www.TheEclecticChicBoutique.com \n* Please note photos are examples of the project and will vary depending on available materials and your own interpretation.
URL:https://theeclecticchicboutique.com/event/fall-terrarium-making-workshop/
LOCATION:The Eclectic Chic Boutique\, 547 Bloomfield Avenue\, Montclair\, NJ\, 07042\, United States
CATEGORIES:Adult,Sculpture and 3D Art,Workshop
ATTACH;FMTTYPE=image/png:https://theeclecticchicboutique.com/wp-content/uploads/2025/09/Fall-Terrarium-Making-Workshop-1.png
GEO:40.8154765;-74.2193579
X-APPLE-STRUCTURED-LOCATION;VALUE=URI;X-ADDRESS=The Eclectic Chic Boutique 547 Bloomfield Avenue Montclair NJ 07042 United States;X-APPLE-RADIUS=500;X-TITLE=547 Bloomfield Avenue:geo:-74.2193579,40.8154765
END:VEVENT
END:VCALENDAR