BEGIN:VCALENDAR
VERSION:2.0
PRODID:-//The Eclectic Chic Boutique - ECPv6.15.20//NONSGML v1.0//EN
CALSCALE:GREGORIAN
METHOD:PUBLISH
X-ORIGINAL-URL:https://theeclecticchicboutique.com
X-WR-CALDESC:Events for The Eclectic Chic Boutique
REFRESH-INTERVAL;VALUE=DURATION:PT1H
X-Robots-Tag:noindex
X-PUBLISHED-TTL:PT1H
BEGIN:VTIMEZONE
TZID:America/New_York
BEGIN:DAYLIGHT
TZOFFSETFROM:-0500
TZOFFSETTO:-0400
TZNAME:EDT
DTSTART:20240310T070000
END:DAYLIGHT
BEGIN:STANDARD
TZOFFSETFROM:-0400
TZOFFSETTO:-0500
TZNAME:EST
DTSTART:20241103T060000
END:STANDARD
BEGIN:DAYLIGHT
TZOFFSETFROM:-0500
TZOFFSETTO:-0400
TZNAME:EDT
DTSTART:20250309T070000
END:DAYLIGHT
BEGIN:STANDARD
TZOFFSETFROM:-0400
TZOFFSETTO:-0500
TZNAME:EST
DTSTART:20251102T060000
END:STANDARD
BEGIN:DAYLIGHT
TZOFFSETFROM:-0500
TZOFFSETTO:-0400
TZNAME:EDT
DTSTART:20260308T070000
END:DAYLIGHT
BEGIN:STANDARD
TZOFFSETFROM:-0400
TZOFFSETTO:-0500
TZNAME:EST
DTSTART:20261101T060000
END:STANDARD
END:VTIMEZONE
BEGIN:VEVENT
DTSTART;TZID=America/New_York:20251207T170000
DTEND;TZID=America/New_York:20251207T190000
DTSTAMP:20260419T094154
CREATED:20241003T233252Z
LAST-MODIFIED:20251114T235704Z
UID:10000159-1765126800-1765134000@theeclecticchicboutique.com
SUMMARY:Polymer Clay Holiday Ornament Workshop
DESCRIPTION:Ever wanted to design and create your own unique holiday ornament? This fun and engaging polymer clay ornament making class is perfect for beginners and hobbyists alike. Learn the essentials of working with this versatile material\, including conditioning\, shaping\, and baking techniques. You’ll discover how to use various tools\, textures\, mica\, and layering methods to create beautiful\, one-of-a-kind designs and color effects. This is a great opportunity to make a holiday gift\, or a new ornament for your own Christmas Tree. Bring a friend\, family member\, spouse\, or co-worker to get creative and make fun memories. Or join in and make new friends while learning a new skill. \nParticipants will be provided with: polymer clay\, tools\, and accessories needed for the class. \nParticipants will take home: Up to two personalized holiday ornaments you created. \n___ \nPARTICIPATION \nThis In Person Class takes place at The Eclectic Chic Boutique located at 547 Bloomfield Ave\, Montclair NJ. Materials and tools will be provided during the class.  \nAPPROPRIATE AGES FOR PARTICIPATION  \nThis class is appropriate for Adults\, Teens\, and Children to participate in. Participants must be at least 13 years old or older and can work independently. If a participant needs a caretaker or parent to assist with the project the assisting person does not need a ticket.  \nCANCELATION & RESCHEDULING \nIt is the Participant’s responsibility to contact us prior to the event if they are unable to attend for any reason. If we as the Organizers need to reschedule an event there is no rescheduling fee\, and participants will be notified of any changes \nParticipants are eligible for a refund if the request is submitted 7 days in advance of the class date. Participants who submit a request 6 days or less in advance are eligible for a 50% refund or an opportunity to apply credit to a future class. If participants cancel the day of the class or do not show up during the class time they are ineligible for a refund. \nThere is a $25 rescheduling fee to reschedule a class. You can review our Cancelation & Rescheduling policies here: https://theeclecticchicboutique.com/class-policies/  \nCONTACT US \nHere at The Eclectic Chic Boutique\, we offer workshops\, DIY kits\, and private sessions. You can contact us at: Kristen@TheEclecticChicBoutique.com or 862-221-0644 for more information or to book. Visit us for details on events\, classes\, and shopping. www.TheEclecticChicBoutique.com \n* Please note photos are examples of the project and will vary depending on available materials and your own interpretation.
URL:https://theeclecticchicboutique.com/event/polymer-clay-ornament-workshop/
LOCATION:The Eclectic Chic Boutique\, 547 Bloomfield Avenue\, Montclair\, NJ\, 07042\, United States
CATEGORIES:Adult,BYOB,Family,Sculpture and 3D Art,Teen,Workshop
ATTACH;FMTTYPE=image/png:https://theeclecticchicboutique.com/wp-content/uploads/2024/10/Polymer-Clay-Holiday-Ornament-Workshop.png
GEO:40.8154765;-74.2193579
X-APPLE-STRUCTURED-LOCATION;VALUE=URI;X-ADDRESS=The Eclectic Chic Boutique 547 Bloomfield Avenue Montclair NJ 07042 United States;X-APPLE-RADIUS=500;X-TITLE=547 Bloomfield Avenue:geo:-74.2193579,40.8154765
END:VEVENT
END:VCALENDAR