BEGIN:VCALENDAR
VERSION:2.0
PRODID:-//The Eclectic Chic Boutique - ECPv6.15.20//NONSGML v1.0//EN
CALSCALE:GREGORIAN
METHOD:PUBLISH
X-WR-CALNAME:The Eclectic Chic Boutique
X-ORIGINAL-URL:https://theeclecticchicboutique.com
X-WR-CALDESC:Events for The Eclectic Chic Boutique
REFRESH-INTERVAL;VALUE=DURATION:PT1H
X-Robots-Tag:noindex
X-PUBLISHED-TTL:PT1H
BEGIN:VTIMEZONE
TZID:America/New_York
BEGIN:DAYLIGHT
TZOFFSETFROM:-0500
TZOFFSETTO:-0400
TZNAME:EDT
DTSTART:20240310T070000
END:DAYLIGHT
BEGIN:STANDARD
TZOFFSETFROM:-0400
TZOFFSETTO:-0500
TZNAME:EST
DTSTART:20241103T060000
END:STANDARD
BEGIN:DAYLIGHT
TZOFFSETFROM:-0500
TZOFFSETTO:-0400
TZNAME:EDT
DTSTART:20250309T070000
END:DAYLIGHT
BEGIN:STANDARD
TZOFFSETFROM:-0400
TZOFFSETTO:-0500
TZNAME:EST
DTSTART:20251102T060000
END:STANDARD
BEGIN:DAYLIGHT
TZOFFSETFROM:-0500
TZOFFSETTO:-0400
TZNAME:EDT
DTSTART:20260308T070000
END:DAYLIGHT
BEGIN:STANDARD
TZOFFSETFROM:-0400
TZOFFSETTO:-0500
TZNAME:EST
DTSTART:20261101T060000
END:STANDARD
END:VTIMEZONE
BEGIN:VEVENT
DTSTART;TZID=America/New_York:20250905T190000
DTEND;TZID=America/New_York:20250905T203000
DTSTAMP:20260424T080550
CREATED:20250717T004816Z
LAST-MODIFIED:20250905T134240Z
UID:10000319-1757098800-1757104200@theeclecticchicboutique.com
SUMMARY:Free First Friday: Coloring and Conversation
DESCRIPTION:Join us for Free First Friday! On the first Friday of each month\, we’ll host a free activity. If you’ve always wanted to try a class with us\, this is the perfect opportunity! RSVP is required\, as there are only 12 seats available. You’re welcome to bring your own snacks and beverages. \nLooking for a relaxing and creative way to unwind after a long week? Join us for some coloring and conversation. We’ll provide a calming space where you can de-stress with adult coloring pages and enjoy engaging conversation. Whether you’re an experienced colorist or just looking for a new way to relax\, this workshop is perfect for all skill levels. Come connect\, create\, and find your calm with us. All coloring supplies are provided – just bring yourself and your desire to relax and chat! \n___ \nPARTICIPATION \nThis class can be held In Person at The Eclectic Chic Boutique located at 547 Bloomfield Ave\, Montclair NJ. \nAPPROPRIATE AGES FOR PARTICIPATION  \nThis class is appropriate for Adults and Teens to participate in. Participants must be at least 13 years old or older and can work independently. If a participant needs a caretaker or parent to assist the caretaker does not need a ticket.  \nCONTACT US \nHere at The Eclectic Chic Boutique\, we offer workshops\, DIY kits\, and private sessions. You can contact us at: Kristen@TheEclecticChicBoutique.com or 862-221-0644 for more information or to book. Visit us for details on events\, classes\, and shopping. www.TheEclecticChicBoutique.com \n* Please note photos are examples of the project and will vary depending on available materials and your own interpretation.
URL:https://theeclecticchicboutique.com/event/free-first-friday-coloring-and-conversation/
LOCATION:The Eclectic Chic Boutique\, 547 Bloomfield Avenue\, Montclair\, NJ\, 07042\, United States
CATEGORIES:Adult,Painting, Drawing, Paper Crafts,Teen,Workshop
ATTACH;FMTTYPE=image/png:https://theeclecticchicboutique.com/wp-content/uploads/2025/07/Free-First-Friday-Coloring-and-Conversation.png
GEO:40.8154765;-74.2193579
X-APPLE-STRUCTURED-LOCATION;VALUE=URI;X-ADDRESS=The Eclectic Chic Boutique 547 Bloomfield Avenue Montclair NJ 07042 United States;X-APPLE-RADIUS=500;X-TITLE=547 Bloomfield Avenue:geo:-74.2193579,40.8154765
END:VEVENT
BEGIN:VEVENT
DTSTART;TZID=America/New_York:20250910T190000
DTEND;TZID=America/New_York:20250910T200000
DTSTAMP:20260424T080550
CREATED:20250716T013645Z
LAST-MODIFIED:20250716T013645Z
UID:10000318-1757530800-1757534400@theeclecticchicboutique.com
SUMMARY:Repair Cafe - Sewing Workshop
DESCRIPTION:In this hands-on workshop\, you’ll learn essential mending techniques to tackle common clothing woes like holes\, tears\, and loose seams. You’ll gain the skills and confidence to repair your own clothes\, saving them from the landfill and giving them a fresh start. Plus\, these skills can be used to mend thrift store finds\, transforming them into unique\, wearable pieces. By the end of the session\, you’ll have successfully repaired your own item and have the knowledge to continue your mending journey at home! \nWhat the instructor will provide: We’ll supply all the necessary tools and materials\, including needles\, a variety of thread colors\, and fabric scraps for patching and practice. \nWhat to bring: Just bring an item of clothing you’d like to repair – whether it’s a favorite pair of pants\, a shirt\, a skirt\, or a jacket. And\, to make the experience even cozier\, we encourage you to bring your favorite cup of coffee to sip while you stitch! \n___ \nPARTICIPATION \nThis class can be attended In Person at The Eclectic Chic Boutique located at 547 Bloomfield Ave\, Montclair NJ or Virtually on Zoom.  \nAPPROPRIATE AGES FOR PARTICIPATION  \nThis class is appropriate for Adults and Teens to participate in. Participants must be at least 13 years old or older and can work independently. If a participant needs a caretaker or parent to assist with the project the assisting person does not need a ticket.  \nCANCELATION & RESCHEDULING \nIt is the Participant’s responsibility to contact us prior to the event if they are unable to attend for any reason. If we as the Organizers need to reschedule an event participants will be notified. \nParticipants are eligible for a refund if the request is submitted up to 7 days in advance of the class date. Participants who submit a request 6 days or less in advance are eligible for a 50% refund or an opportunity to apply credit to a future class. If participants cancel the day of the class or do not show up during the class time they are ineligible for a refund.  \nCONTACT US \nHere at The Eclectic Chic Boutique\, we offer workshops\, DIY kits\, and private sessions. You can contact us at: Kristen@TheEclecticChicBoutique.com or 862-221-0644 for more information or to book. Visit us for details on events\, classes\, and shopping. www.TheEclecticChicBoutique.com \n* Please note photos are examples of the project and will vary depending on available materials and your own interpretation.
URL:https://theeclecticchicboutique.com/event/repair-cafe-sewing-workshop/
LOCATION:The Eclectic Chic Boutique\, 547 Bloomfield Avenue\, Montclair\, NJ\, 07042\, United States
CATEGORIES:Adult,Crochet, Knitting and Sewing,Teen,Workshop
ATTACH;FMTTYPE=image/png:https://theeclecticchicboutique.com/wp-content/uploads/2025/07/Repair-Cafe-Sewing-Workshop.png
GEO:40.8154765;-74.2193579
X-APPLE-STRUCTURED-LOCATION;VALUE=URI;X-ADDRESS=The Eclectic Chic Boutique 547 Bloomfield Avenue Montclair NJ 07042 United States;X-APPLE-RADIUS=500;X-TITLE=547 Bloomfield Avenue:geo:-74.2193579,40.8154765
END:VEVENT
BEGIN:VEVENT
DTSTART;TZID=America/New_York:20250912T190000
DTEND;TZID=America/New_York:20250912T203000
DTSTAMP:20260424T080551
CREATED:20250510T010759Z
LAST-MODIFIED:20250813T174042Z
UID:10000290-1757703600-1757709000@theeclecticchicboutique.com
SUMMARY:Doing Your Do: Creating Hair Jewelry
DESCRIPTION:Whether you wear you hair straight\, kinky\, braided or loc’d\, we will walk you through Hair Jewelry Making to accommodate your style. We will show you how to accessorize one of your most important features. \nParticipants will complete 2 projects using wire wrapping techniques. A barrette and a headband\, using both seed beads and gemstone beads.  They will be designing their own projects. \nAll supplies will be provided. \n___ \nPARTICIPATION \nThis In Person Class takes place at The Eclectic Chic Boutique located at 547 Bloomfield Ave\, Montclair NJ. Materials and tools will be provided during the class. \nAPPROPRIATE AGES FOR PARTICIPATION \nThis class is appropriate for Adults and Teens to participate in. Participants must be at least 13 years old or older and can work independently. If a participant needs a caretaker or parent to assist with the project the assisting person does not need a ticket. \nCANCELATION & RESCHEDULING \nIt is the Participant’s responsibility to contact us prior to the event if they are unable to attend for any reason. If we as the Organizers need to reschedule an event participants will be notified. \nParticipants are eligible for a refund if the request is submitted up to 7 days in advance of the class date. Participants who submit a request 6 days or less in advance are eligible for a 50% refund or an opportunity to apply credit to a future class. If participants cancel the day of the class or do not show up during the class time they are ineligible for a refund.  \nCONTACT US \nHere at The Eclectic Chic Boutique\, we offer workshops\, DIY kits\, and private sessions. You can contact us at: Kristen@TheEclecticChicBoutique.com or 862-221-0644 for more information or to book. Visit us for details on events\, classes\, and shopping. www.TheEclecticChicBoutique.com \n* Please note photos are examples of the project and will vary depending on available materials and your own interpretation.
URL:https://theeclecticchicboutique.com/event/doing-your-do-creating-hair-jewelry/
LOCATION:The Eclectic Chic Boutique\, 547 Bloomfield Avenue\, Montclair\, NJ\, 07042\, United States
CATEGORIES:Adult,Jewelry Making,Teen,Workshop
ATTACH;FMTTYPE=image/png:https://theeclecticchicboutique.com/wp-content/uploads/2025/05/Doing-Your-Do-Creating-Hair-Jewelry_sept.png
GEO:40.8154765;-74.2193579
X-APPLE-STRUCTURED-LOCATION;VALUE=URI;X-ADDRESS=The Eclectic Chic Boutique 547 Bloomfield Avenue Montclair NJ 07042 United States;X-APPLE-RADIUS=500;X-TITLE=547 Bloomfield Avenue:geo:-74.2193579,40.8154765
END:VEVENT
BEGIN:VEVENT
DTSTART;TZID=America/New_York:20250914T150000
DTEND;TZID=America/New_York:20250914T170000
DTSTAMP:20260424T080551
CREATED:20250815T195157Z
LAST-MODIFIED:20250914T172616Z
UID:10000321-1757862000-1757869200@theeclecticchicboutique.com
SUMMARY:Transition Your Wardrobe Sewing Workshop
DESCRIPTION:Join us and learn basic sewing and design techniques to update your wardrobe to match your gender identity and style! Learning to sew is a great life skill to have\, you can make your own repairs and adjustments\, as well as repurpose old clothes to turn them into one of a kind fashion. No sewing experience necessary. Bring one piece of clothing you would like to upcycle. If you have a sewing machine or sewing needles and materials from home you want to use you are welcome to bring in and use during this session. We will have some sewing materials and tools on hand for you to use and get creative. \nThis event is in partnership with Out Montclair. Visit https://outmontclair.org/ to learn more about their mission. \nWhat you will be using in class: Participants will be using a needle\, thread\, fabric notions\, embellishments\, and fabric shears to transform their clothing item into a new piece of fun fashion. \nWhat you need to bring: Participants need to bring in one piece of clothing from home – a shirt\, a pair of pants\, a shirt\, or other clothing item. \nWhat you will make and take home: One upcycled piece of clothing you redesigned. \n___ \nPARTICIPATION \nThis In Person Class takes place at The Eclectic Chic Boutique located at 547 Bloomfield Ave\, Montclair NJ. \nAPPROPRIATE AGES FOR PARTICIPATION  \nThis class is appropriate for Adults and Teens to participate in. Participants must be at least 14 years old or older and can work independently. If a participant needs a caretaker or parent to assist with the project the assisting person does not need a ticket. \nCANCELATION & RESCHEDULING \nIt is the Participant’s responsibility to contact us prior to the event if they are unable to attend for any reason. If we as the Organizers need to reschedule an event participants will be notified. \nParticipants are eligible for a refund if the request is submitted up to 7 days in advance of the class date. Participants who submit a request 6 days or less in advance are eligible for a 50% refund or an opportunity to apply credit to a future class. If participants cancel the day of the class or do not show up during the class time they are ineligible for a refund. \nCONTACT US \nHere at The Eclectic Chic Boutique\, we offer workshops\, DIY kits\, and private sessions. You can contact us at: Kristen@TheEclecticChicBoutique.com or 862-221-0644 for more information or to book. Visit us for details on events\, classes\, and shopping. www.TheEclecticChicBoutique.com \n* Please note photos are examples of the project and will vary depending on available materials and your own interpretation.
URL:https://theeclecticchicboutique.com/event/transition-your-wardrobe-sewing-workshop/
LOCATION:The Eclectic Chic Boutique\, 547 Bloomfield Avenue\, Montclair\, NJ\, 07042\, United States
CATEGORIES:Adult,Community Event,Crochet, Knitting and Sewing,Special Event,Teen,Workshop
ATTACH;FMTTYPE=image/png:https://theeclecticchicboutique.com/wp-content/uploads/2025/08/OutMontclair-Sewing-Workshop-1920-x-1080-px.png
GEO:40.8154765;-74.2193579
X-APPLE-STRUCTURED-LOCATION;VALUE=URI;X-ADDRESS=The Eclectic Chic Boutique 547 Bloomfield Avenue Montclair NJ 07042 United States;X-APPLE-RADIUS=500;X-TITLE=547 Bloomfield Avenue:geo:-74.2193579,40.8154765
END:VEVENT
BEGIN:VEVENT
DTSTART;TZID=America/New_York:20250918T190000
DTEND;TZID=America/New_York:20250918T210000
DTSTAMP:20260424T080551
CREATED:20250312T232021Z
LAST-MODIFIED:20250815T182341Z
UID:10000252-1758222000-1758229200@theeclecticchicboutique.com
SUMMARY:Round Loom Knitting Workshop
DESCRIPTION:Learn how to use a round loom to knit a hat or a scarf. No previous experience needed. Class fee includes all necessary tools – round loom and loom hook\, yarn and yarn needle. The tools are yours to use for future projects. During the first session you will learn how to cast on and start knitting. \nYou will finish your project and bind off during the second session. The second session takes place on Thursday\, October 9th at 7pm. \nWhat you will be using in class: Participants will be using round loom\, loom hook\, yarn\, and a yarn needle. \nWhat you will make and take home: Each participant will make 1 hat or 1 scarf. \n___ \nPARTICIPATION \nThis class can be attended In Person at The Eclectic Chic Boutique located at 547 Bloomfield Ave\, Montclair NJ or Virtually on Zoom.  \nAPPROPRIATE AGES FOR PARTICIPATION  \nThis class is appropriate for Kids\, Adults and Teens to participate in. Participants must be at least 13 years old or older and can work independently. If a participant needs a caretaker or parent to assist with the project the assisting person does not need a ticket.  \nCANCELATION & RESCHEDULING \nIt is the Participant’s responsibility to contact us prior to the event if they are unable to attend for any reason. If we as the Organizers need to reschedule an event participants will be notified. \nParticipants are eligible for a refund if the request is submitted up to 7 days in advance of the class date. Participants who submit a request 6 days or less in advance are eligible for a 50% refund or an opportunity to apply credit to a future class. If participants cancel the day of the class or do not show up during the class time they are ineligible for a refund.  \nCONTACT US \nHere at The Eclectic Chic Boutique\, we offer workshops\, DIY kits\, and private sessions. You can contact us at: Kristen@TheEclecticChicBoutique.com or 862-221-0644 for more information or to book. Visit us for details on events\, classes\, and shopping. www.TheEclecticChicBoutique.com \n* Please note photos are examples of the project and will vary depending on available materials and your own interpretation.
URL:https://theeclecticchicboutique.com/event/round-loom-knitting-workshop/
LOCATION:The Eclectic Chic Boutique\, 547 Bloomfield Avenue\, Montclair\, NJ\, 07042\, United States
CATEGORIES:Adult,Crochet, Knitting and Sewing,Family,Kids,Teen,Workshop
ATTACH;FMTTYPE=image/png:https://theeclecticchicboutique.com/wp-content/uploads/2025/03/Round-Loom-Knitting-Workshop.png
GEO:40.8154765;-74.2193579
X-APPLE-STRUCTURED-LOCATION;VALUE=URI;X-ADDRESS=The Eclectic Chic Boutique 547 Bloomfield Avenue Montclair NJ 07042 United States;X-APPLE-RADIUS=500;X-TITLE=547 Bloomfield Avenue:geo:-74.2193579,40.8154765
END:VEVENT
BEGIN:VEVENT
DTSTART;TZID=America/New_York:20250926T190000
DTEND;TZID=America/New_York:20250926T210000
DTSTAMP:20260424T080551
CREATED:20250702T233000Z
LAST-MODIFIED:20250702T233000Z
UID:10000315-1758913200-1758920400@theeclecticchicboutique.com
SUMMARY:Game Nights: Dungeons and Dragons
DESCRIPTION:Adventurers! Join us for a fun and fantastical one shot D&D campaign. We embrace the quirky\, the chaotic\, and the downright silly. Expect unexpected twists and hilarious roleplaying moments. Whether you’re a seasoned adventurer or a curious newcomer\, come join the fun! No experience is necessary\, and we welcome players of all skill levels. If you need help with making a character\, our friendly DM will happily work with you to create your own character sheet or provide you a premade one. We’re all about having a good laugh and creating unforgettable memories together. Players aged 16 and up are welcome to play. This is a safe space for all\, including LGBTQIA+ and Neurodiverse folk. \nWhat you will be using: Participants will be using character sheets\, and character models. \nWhat you should bring: Participants will need to bring their own dice (or can purchase dice at the store for 15% off)\, bring their own snacks and drinks (if they wish to have some munchies)\, and are encouraged to bring their own models if they have them. \nUpon sign up: Participants will be sent a discord invite and a consent form to fill out. This allows you to directly speak with the DM and establish what you are comfortable with in a Dungeons and Dragons game. \n___ \nPARTICIPATION \nThis game session is held In Person at The Eclectic Chic Boutique located at 547 Bloomfield Ave\, Montclair NJ.  \nAPPROPRIATE AGES FOR PARTICIPATION  \nThis class is appropriate for Teens aged 16+ and Adults to participate in.  \nCANCELATION & RESCHEDULING \nIt is the Participant’s responsibility to contact us prior to the event if they are unable to attend for any reason. If we as the Organizers need to reschedule an event participants will be notified. \nParticipants are eligible for a refund if the request is submitted up to 7 days in advance of the class date. Participants who submit a request 6 days or less in advance are eligible for a 50% refund or an opportunity to apply credit to a future class. If participants cancel the day of the class or do not show up during the class time they are ineligible for a refund.  \nCONTACT US \nYou can contact us at: Kristen@TheEclecticChicBoutique.com or 862-221-0644 for more information or to book. Visit us for details on events\, classes\, and shopping. www.TheEclecticChicBoutique.com \n* Please note photos are examples of the project and will vary depending on available materials and your own interpretation.
URL:https://theeclecticchicboutique.com/event/game-nights-dungeons-and-dragons-4/
LOCATION:The Eclectic Chic Boutique\, 547 Bloomfield Avenue\, Montclair\, NJ\, 07042\, United States
CATEGORIES:Adult,Game Night,Special Event,Teen
ATTACH;FMTTYPE=image/png:https://theeclecticchicboutique.com/wp-content/uploads/2025/02/Game-Nights-Dungeons-Dragons.png
GEO:40.8154765;-74.2193579
X-APPLE-STRUCTURED-LOCATION;VALUE=URI;X-ADDRESS=The Eclectic Chic Boutique 547 Bloomfield Avenue Montclair NJ 07042 United States;X-APPLE-RADIUS=500;X-TITLE=547 Bloomfield Avenue:geo:-74.2193579,40.8154765
END:VEVENT
END:VCALENDAR