BEGIN:VCALENDAR
VERSION:2.0
PRODID:-//The Eclectic Chic Boutique - ECPv6.15.20//NONSGML v1.0//EN
CALSCALE:GREGORIAN
METHOD:PUBLISH
X-ORIGINAL-URL:https://theeclecticchicboutique.com
X-WR-CALDESC:Events for The Eclectic Chic Boutique
REFRESH-INTERVAL;VALUE=DURATION:PT1H
X-Robots-Tag:noindex
X-PUBLISHED-TTL:PT1H
BEGIN:VTIMEZONE
TZID:America/New_York
BEGIN:DAYLIGHT
TZOFFSETFROM:-0500
TZOFFSETTO:-0400
TZNAME:EDT
DTSTART:20240310T070000
END:DAYLIGHT
BEGIN:STANDARD
TZOFFSETFROM:-0400
TZOFFSETTO:-0500
TZNAME:EST
DTSTART:20241103T060000
END:STANDARD
BEGIN:DAYLIGHT
TZOFFSETFROM:-0500
TZOFFSETTO:-0400
TZNAME:EDT
DTSTART:20250309T070000
END:DAYLIGHT
BEGIN:STANDARD
TZOFFSETFROM:-0400
TZOFFSETTO:-0500
TZNAME:EST
DTSTART:20251102T060000
END:STANDARD
BEGIN:DAYLIGHT
TZOFFSETFROM:-0500
TZOFFSETTO:-0400
TZNAME:EDT
DTSTART:20260308T070000
END:DAYLIGHT
BEGIN:STANDARD
TZOFFSETFROM:-0400
TZOFFSETTO:-0500
TZNAME:EST
DTSTART:20261101T060000
END:STANDARD
END:VTIMEZONE
BEGIN:VEVENT
DTSTART;TZID=America/New_York:20251003T190000
DTEND;TZID=America/New_York:20251003T203000
DTSTAMP:20260422T111847
CREATED:20250918T211501Z
LAST-MODIFIED:20251002T193149Z
UID:10000332-1759518000-1759523400@theeclecticchicboutique.com
SUMMARY:Free First Friday: Witchy Rituals & Metaphysical Tools
DESCRIPTION:Join us for Free First Friday! On the first Friday of each month\, we’ll host a free activity. If you’ve always wanted to try a class with us\, this is the perfect opportunity! RSVP is required\, as there are only 12 seats available. You’re welcome to bring your own snacks and beverages. \nAre you a curious mind or spiritual seeker who feels drained after social gatherings? Learn how to energetically cleanse and protect yourself from absorbing other people’s energy in this hands-on class. You’ll perform a candle ritual to release unwanted energy and craft your own grounding protection spray to take home. This class provides you with the tools to feel more centered\, clear\, and protected in your daily life. \n___ \nPARTICIPATION \nThis class can be held In Person at The Eclectic Chic Boutique located at 547 Bloomfield Ave\, Montclair NJ. \nAPPROPRIATE AGES FOR PARTICIPATION  \nThis class is appropriate for Adults and Teens to participate in. Participants must be at least 13 years old or older and can work independently. If a participant needs a caretaker or parent to assist the caretaker does not need a ticket.  \nCONTACT US \nHere at The Eclectic Chic Boutique\, we offer workshops\, DIY kits\, and private sessions. You can contact us at: Kristen@TheEclecticChicBoutique.com or 862-221-0644 for more information or to book. Visit us for details on events\, classes\, and shopping. www.TheEclecticChicBoutique.com \n* Please note photos are examples of the project and will vary depending on available materials and your own interpretation.
URL:https://theeclecticchicboutique.com/event/free-first-friday-witchy-rituals-metaphysical-tools/
LOCATION:The Eclectic Chic Boutique\, 547 Bloomfield Avenue\, Montclair\, NJ\, 07042\, United States
CATEGORIES:Adult,Crystals and Wellness,Teen,Workshop
ATTACH;FMTTYPE=image/png:https://theeclecticchicboutique.com/wp-content/uploads/2025/09/Free-First-Friday-Witchy-Rituals-Metaphysical-Tools.png
GEO:40.8154765;-74.2193579
X-APPLE-STRUCTURED-LOCATION;VALUE=URI;X-ADDRESS=The Eclectic Chic Boutique 547 Bloomfield Avenue Montclair NJ 07042 United States;X-APPLE-RADIUS=500;X-TITLE=547 Bloomfield Avenue:geo:-74.2193579,40.8154765
END:VEVENT
BEGIN:VEVENT
DTSTART;TZID=America/New_York:20251010T190000
DTEND;TZID=America/New_York:20251010T200000
DTSTAMP:20260422T111847
CREATED:20250706T232352Z
LAST-MODIFIED:20250920T115556Z
UID:10000311-1760122800-1760126400@theeclecticchicboutique.com
SUMMARY:Expressing Your Inner Goth Through Bracelet Design
DESCRIPTION:Listen to your inner compass and channel your inner goth through your own art creation\, thus creating a bracelet design that uniquely resonates with you. Let’s embrace the spooky season together! We highly encourage you to come in costume. \nMaterials provided: Ceramic beads\, glass beads\, acrylic beads\, elastic string \nParticipants will create: one to two unique bracelet designs \n___ \nPARTICIPATION \nThis In Person Class takes place at The Eclectic Chic Boutique located at 547 Bloomfield Ave\, Montclair NJ. Materials and tools will be provided during the class. \nAPPROPRIATE AGES FOR PARTICIPATION \nThis class is appropriate for Adults and Teens to participate in. Participants must be at least 13 years old or older and can work independently. If a participant needs a caretaker or parent to assist with the project the assisting person does not need a ticket. \nCANCELATION & RESCHEDULING \nIt is the Participant’s responsibility to contact us prior to the event if they are unable to attend for any reason. If we as the Organizers need to reschedule an event participants will be notified. \nParticipants are eligible for a refund if the request is submitted up to 7 days in advance of the class date. Participants who submit a request 6 days or less in advance are eligible for a 50% refund or an opportunity to apply credit to a future class. If participants cancel the day of the class or do not show up during the class time they are ineligible for a refund.  \nCONTACT US \nHere at The Eclectic Chic Boutique\, we offer workshops\, DIY kits\, and private sessions. You can contact us at: Kristen@TheEclecticChicBoutique.com or 862-221-0644 for more information or to book. Visit us for details on events\, classes\, and shopping. www.TheEclecticChicBoutique.com \n* Please note photos are examples of the project and will vary depending on available materials and your own interpretation.
URL:https://theeclecticchicboutique.com/event/expressing-yourself-limitlessly-through-bracelet-design/
LOCATION:The Eclectic Chic Boutique\, 547 Bloomfield Avenue\, Montclair\, NJ\, 07042\, United States
CATEGORIES:Adult,Jewelry Making,Teen,Workshop
ATTACH;FMTTYPE=image/png:https://theeclecticchicboutique.com/wp-content/uploads/2025/07/Expressing-Your-Inner-Goth-Through-Bracelet-Design_7pm.png
GEO:40.8154765;-74.2193579
X-APPLE-STRUCTURED-LOCATION;VALUE=URI;X-ADDRESS=The Eclectic Chic Boutique 547 Bloomfield Avenue Montclair NJ 07042 United States;X-APPLE-RADIUS=500;X-TITLE=547 Bloomfield Avenue:geo:-74.2193579,40.8154765
END:VEVENT
BEGIN:VEVENT
DTSTART;TZID=America/New_York:20251018T160000
DTEND;TZID=America/New_York:20251018T173000
DTSTAMP:20260422T111847
CREATED:20250912T232236Z
LAST-MODIFIED:20250912T232236Z
UID:10000329-1760803200-1760808600@theeclecticchicboutique.com
SUMMARY:Scrap Pumpkin Making Workshop
DESCRIPTION:Looking for a unique way to decorate for fall? Learn how to turn colorful scrap fabric into beautiful pumpkins that will last for years. In this workshop\, you’ll design your very own sustainable\, one-of-a-kind autumn decor to bring warmth and charm to your home. If you wish to bring any materials from home\, you are welcome to do so. No experience necessary—just bring your creativity and get ready to craft! \nMaterials provided: Hot glue gun\, hot glue gun glue sticks\, leftover cardboard boxes\, twine\, thin rope\, scraps of fabric & stuffing\, corks \nParticipants will create: 2 scrap fabric pumpkins \n___ \nPARTICIPATION \nThis In Person Class takes place at The Eclectic Chic Boutique located at 547 Bloomfield Ave\, Montclair NJ. Materials and tools will be provided during the class. \nAPPROPRIATE AGES FOR PARTICIPATION \nThis class is appropriate for Adults\, Teens and Kids to participate in. Participants must be at least 8 years old or older and can work independently. If a participant needs a caretaker or parent to assist with the project the assisting person does not need a ticket. \nCANCELATION & RESCHEDULING \nIt is the Participant’s responsibility to contact us prior to the event if they are unable to attend for any reason. If we as the Organizers need to reschedule an event participants will be notified. \nParticipants are eligible for a refund if the request is submitted up to 7 days in advance of the class date. Participants who submit a request 6 days or less in advance are eligible for a 50% refund or an opportunity to apply credit to a future class. If participants cancel the day of the class or do not show up during the class time they are ineligible for a refund.  \nCONTACT US \nHere at The Eclectic Chic Boutique\, we offer workshops\, DIY kits\, and private sessions. You can contact us at: Kristen@TheEclecticChicBoutique.com or 862-221-0644 for more information or to book. Visit us for details on events\, classes\, and shopping. www.TheEclecticChicBoutique.com \n* Please note photos are examples of the project and will vary depending on available materials and your own interpretation. \n___ \nHOW TO PARTICIPATE IN CLASS \nThis class is available to take In Person at our Shop at 547 Bloomfield Ave\, Montclair\, NJ 07042. Participants must provide their own sewing machine and ensure that it is in working condition\, along with thread\, bobbins\, and the machine’s instruction manual. Fabrics will be provided for participants to use during the class. \nAPPROPRIATE AGES FOR PARTICIPATION  \nThis class is appropriate for Adults\, Teens\, and Kids to participate in. Participants must be at least 8 years old or older and can work independently. If a participant needs a caretaker or parent to assist with the project the assisting person does not need a ticket. \nCLASS PARTICIPATION \nParticipants must attend on the scheduled date and time of the class in order to partake. It is the Participant’s responsibility to contact us prior to the event if they are unable to attend for any reason. If we as the Organizers need to reschedule an event there is no rescheduling fee\, and participants will be notified of any changes. \nCANCELATION & RESCHEDULING \nIt is the Participant’s responsibility to contact us prior to the event if they are unable to attend for any reason. If we as the Organizers need to reschedule an event participants will be notified. \nParticipants are eligible for a refund if the request is submitted 7 days in advance of the class date. Participants who submit a request 6 days or less in advance are eligible for a 50% refund or an opportunity to apply credit to a future class. If participants cancel the day of the class or do not show up during the class time they are ineligible for a refund. \nCONTACT US \nHere at The Eclectic Chic Boutique\, we offer workshops\, DIY kits\, and private sessions. You can contact us at: Kristen@TheEclecticChicBoutique.com or 862-221-0644 for more information or to book. Visit us for details on events\, classes\, and shopping. www.TheEclecticChicBoutique.com \n* Please note photos are examples of the project and will vary depending on available materials and your own interpretation.
URL:https://theeclecticchicboutique.com/event/scrap-pumpkin-making-workshop/
LOCATION:The Eclectic Chic Boutique\, 547 Bloomfield Avenue\, Montclair\, NJ\, 07042\, United States
CATEGORIES:Crochet, Knitting and Sewing,Family,Kids,Teen,Workshop
ATTACH;FMTTYPE=image/png:https://theeclecticchicboutique.com/wp-content/uploads/2025/09/Scrap-Fabric-Pumpkin-Making-Workshop_.png
GEO:40.8154765;-74.2193579
X-APPLE-STRUCTURED-LOCATION;VALUE=URI;X-ADDRESS=The Eclectic Chic Boutique 547 Bloomfield Avenue Montclair NJ 07042 United States;X-APPLE-RADIUS=500;X-TITLE=547 Bloomfield Avenue:geo:-74.2193579,40.8154765
END:VEVENT
BEGIN:VEVENT
DTSTART;TZID=America/New_York:20251019T180000
DTEND;TZID=America/New_York:20251019T193000
DTSTAMP:20260422T111847
CREATED:20250918T212228Z
LAST-MODIFIED:20250918T235419Z
UID:10000333-1760896800-1760902200@theeclecticchicboutique.com
SUMMARY:Wood Pumpkin Painting Workshop
DESCRIPTION:Get into the spooky spirit and paint your own wooden pumpkin! Join us for a fun and festive pumpkin painting workshop where you’ll transform a simple wooden cutout into a one-of-a-kind decoration. We’ll provide all the supplies\, so all you have to do is show up and get creative. \nMaterials provided: pre-cut wooden pumpkin\, paint pens\, paints\, paper plates\, bushes. \nParticipants will create: 2 pumpkins \n___ \nPARTICIPATION \nThis In Person Class takes place at The Eclectic Chic Boutique located at 547 Bloomfield Ave\, Montclair NJ. Materials and tools will be provided during the class. \nAPPROPRIATE AGES FOR PARTICIPATION \nThis class is appropriate for Adults\, Teens\, and Kids to participate in. Participants must be at least 8 years old or older and can work independently. If a participant needs a caretaker or parent to assist with the project the assisting person does not need a ticket. \nCANCELATION & RESCHEDULING \nIt is the Participant’s responsibility to contact us prior to the event if they are unable to attend for any reason. If we as the Organizers need to reschedule an event participants will be notified. \nParticipants are eligible for a refund if the request is submitted up to 7 days in advance of the class date. Participants who submit a request 6 days or less in advance are eligible for a 50% refund or an opportunity to apply credit to a future class. If participants cancel the day of the class or do not show up during the class time they are ineligible for a refund.  \nCONTACT US \nHere at The Eclectic Chic Boutique\, we offer workshops\, DIY kits\, and private sessions. You can contact us at: Kristen@TheEclecticChicBoutique.com or 862-221-0644 for more information or to book. Visit us for details on events\, classes\, and shopping. www.TheEclecticChicBoutique.com \n* Please note photos are examples of the project and will vary depending on available materials and your own interpretation. \n___ \nHOW TO PARTICIPATE IN CLASS \nThis class is available to take In Person at our Shop at 547 Bloomfield Ave\, Montclair\, NJ 07042. Participants must provide their own sewing machine and ensure that it is in working condition\, along with thread\, bobbins\, and the machine’s instruction manual. Fabrics will be provided for participants to use during the class. \nAPPROPRIATE AGES FOR PARTICIPATION  \nThis class is appropriate for Children aged 8 to 12 years old\, and who can work independently. If a participant needs a caretaker or parent to assist with the project the assisting person does not need a ticket.  \nCLASS PARTICIPATION \nParticipants must attend on the scheduled date and time of the class in order to partake. It is the Participant’s responsibility to contact us prior to the event if they are unable to attend for any reason. If we as the Organizers need to reschedule an event there is no rescheduling fee\, and participants will be notified of any changes. \nCANCELATION & RESCHEDULING \nIt is the Participant’s responsibility to contact us prior to the event if they are unable to attend for any reason. If we as the Organizers need to reschedule an event participants will be notified. \nParticipants are eligible for a refund if the request is submitted 7 days in advance of the class date. Participants who submit a request 6 days or less in advance are eligible for a 50% refund or an opportunity to apply credit to a future class. If participants cancel the day of the class or do not show up during the class time they are ineligible for a refund. \nCONTACT US \nHere at The Eclectic Chic Boutique\, we offer workshops\, DIY kits\, and private sessions. You can contact us at: Kristen@TheEclecticChicBoutique.com or 862-221-0644 for more information or to book. Visit us for details on events\, classes\, and shopping. www.TheEclecticChicBoutique.com \n* Please note photos are examples of the project and will vary depending on available materials and your own interpretation.
URL:https://theeclecticchicboutique.com/event/wood-pumpkin-painting-workshop/
LOCATION:The Eclectic Chic Boutique\, 547 Bloomfield Avenue\, Montclair\, NJ\, 07042\, United States
CATEGORIES:Kids,Painting, Drawing, Paper Crafts,Teen,Workshop
ATTACH;FMTTYPE=image/png:https://theeclecticchicboutique.com/wp-content/uploads/2025/09/Pumpkin-Painting-Workshop.png
GEO:40.8154765;-74.2193579
X-APPLE-STRUCTURED-LOCATION;VALUE=URI;X-ADDRESS=The Eclectic Chic Boutique 547 Bloomfield Avenue Montclair NJ 07042 United States;X-APPLE-RADIUS=500;X-TITLE=547 Bloomfield Avenue:geo:-74.2193579,40.8154765
END:VEVENT
BEGIN:VEVENT
DTSTART;TZID=America/New_York:20251031T190000
DTEND;TZID=America/New_York:20251031T210000
DTSTAMP:20260422T111847
CREATED:20250927T185042Z
LAST-MODIFIED:20250927T190549Z
UID:10000344-1761937200-1761944400@theeclecticchicboutique.com
SUMMARY:Halloween Game Night: Dungeons and Dragons
DESCRIPTION:Happy Halloween Adventurers! Join us for a spooky themed one shot D&D campaign. We embrace the quirky\, the chaotic\, and the downright silly. Expect unexpected twists and hilarious roleplaying moments. For this special Game Night you are welcome to come in costume and bring your favorite treat (totally optional). \nWhether you’re a seasoned adventurer or a curious newcomer\, come join the fun! No experience is necessary\, and we welcome players of all skill levels. If you need help with making a character\, our friendly DM will happily work with you to create your own character sheet or provide you a premade one. We’re all about having a good laugh and creating unforgettable memories together. Players aged 16 and up are welcome to play. This is a safe space for all\, including LGBTQIA+ and Neurodiverse folk. \nWhat you will be using: Participants will be using character sheets\, and character models. \nWhat you should bring: Participants will need to bring their own dice (or can purchase dice at the store for 15% off)\, bring their own snacks and drinks (if they wish to have some munchies)\, and are encouraged to bring their own models if they have them. \nUpon sign up: Participants will be sent a discord invite and a consent form to fill out. This allows you to directly speak with the DM and establish what you are comfortable with in a Dungeons and Dragons game. \n___ \nPARTICIPATION \nThis game session is held In Person at The Eclectic Chic Boutique located at 547 Bloomfield Ave\, Montclair NJ.  \nAPPROPRIATE AGES FOR PARTICIPATION  \nThis class is appropriate for Teens aged 16+ and Adults to participate in.  \nCANCELATION & RESCHEDULING \nIt is the Participant’s responsibility to contact us prior to the event if they are unable to attend for any reason. If we as the Organizers need to reschedule an event participants will be notified. \nParticipants are eligible for a refund if the request is submitted up to 7 days in advance of the class date. Participants who submit a request 6 days or less in advance are eligible for a 50% refund or an opportunity to apply credit to a future class. If participants cancel the day of the class or do not show up during the class time they are ineligible for a refund.  \nCONTACT US \nYou can contact us at: Kristen@TheEclecticChicBoutique.com or 862-221-0644 for more information or to book. Visit us for details on events\, classes\, and shopping. www.TheEclecticChicBoutique.com \n* Please note photos are examples of the project and will vary depending on available materials and your own interpretation.
URL:https://theeclecticchicboutique.com/event/halloween-game-night-dungeons-and-dragons/
LOCATION:The Eclectic Chic Boutique\, 547 Bloomfield Avenue\, Montclair\, NJ\, 07042\, United States
CATEGORIES:Adult,Game Night,Special Event,Teen
ATTACH;FMTTYPE=image/png:https://theeclecticchicboutique.com/wp-content/uploads/2025/09/Game-Nights-Dungeons-Dragons.png
GEO:40.8154765;-74.2193579
X-APPLE-STRUCTURED-LOCATION;VALUE=URI;X-ADDRESS=The Eclectic Chic Boutique 547 Bloomfield Avenue Montclair NJ 07042 United States;X-APPLE-RADIUS=500;X-TITLE=547 Bloomfield Avenue:geo:-74.2193579,40.8154765
END:VEVENT
END:VCALENDAR