BEGIN:VCALENDAR
VERSION:2.0
PRODID:-//The Eclectic Chic Boutique - ECPv6.15.20//NONSGML v1.0//EN
CALSCALE:GREGORIAN
METHOD:PUBLISH
X-ORIGINAL-URL:https://theeclecticchicboutique.com
X-WR-CALDESC:Events for The Eclectic Chic Boutique
REFRESH-INTERVAL;VALUE=DURATION:PT1H
X-Robots-Tag:noindex
X-PUBLISHED-TTL:PT1H
BEGIN:VTIMEZONE
TZID:America/New_York
BEGIN:DAYLIGHT
TZOFFSETFROM:-0500
TZOFFSETTO:-0400
TZNAME:EDT
DTSTART:20240310T070000
END:DAYLIGHT
BEGIN:STANDARD
TZOFFSETFROM:-0400
TZOFFSETTO:-0500
TZNAME:EST
DTSTART:20241103T060000
END:STANDARD
BEGIN:DAYLIGHT
TZOFFSETFROM:-0500
TZOFFSETTO:-0400
TZNAME:EDT
DTSTART:20250309T070000
END:DAYLIGHT
BEGIN:STANDARD
TZOFFSETFROM:-0400
TZOFFSETTO:-0500
TZNAME:EST
DTSTART:20251102T060000
END:STANDARD
BEGIN:DAYLIGHT
TZOFFSETFROM:-0500
TZOFFSETTO:-0400
TZNAME:EDT
DTSTART:20260308T070000
END:DAYLIGHT
BEGIN:STANDARD
TZOFFSETFROM:-0400
TZOFFSETTO:-0500
TZNAME:EST
DTSTART:20261101T060000
END:STANDARD
END:VTIMEZONE
BEGIN:VEVENT
DTSTART;TZID=America/New_York:20251102T140000
DTEND;TZID=America/New_York:20251102T150000
DTSTAMP:20260422T081838
CREATED:20250814T002859Z
LAST-MODIFIED:20251017T233730Z
UID:10000320-1762092000-1762095600@theeclecticchicboutique.com
SUMMARY:Japanese Flower Arranging Workshop
DESCRIPTION:Step into the art of Japanese flower arranging\, or ikebana. Ikebana is a discipline that goes beyond simply placing flowers in a container. Emphasizing nature\, balance\, and minimalism\, it is a meditative practice that focuses on line\, form\, and color. You’ll learn the fundamental principles of this beautiful practice\, gaining a deep appreciation for nature and simplicity. \nWhat you will be using in class: Participants will be provided with fresh flowers\, a vase or dish\, a flower frog\, scissors\, and wire. You don’t need to bring a thing—just your creativity! \nWhat you will make and take home: At the end of the class\, each participant will take home their flower arrangement to display and enjoy. \n___ \nPARTICIPATION \nThis In Person Class takes place at The Eclectic Chic Boutique located at 547 Bloomfield Ave\, Montclair NJ. \nAPPROPRIATE AGES FOR PARTICIPATION  \nThis class is appropriate for Adults\, Kids and Teens to participate in. Participants must be at least 8 years old or older and can work independently. If a participant needs a caretaker or parent to assist with the project the assisting person does not need a ticket.  \nCANCELATION & RESCHEDULING \nIt is the Participant’s responsibility to contact us prior to the event if they are unable to attend for any reason. If we as the Organizers need to reschedule an event participants will be notified. \nParticipants are eligible for a refund if the request is submitted up to 7 days in advance of the class date. Participants who submit a request 6 days or less in advance are eligible for a 50% refund or an opportunity to apply credit to a future class. If participants cancel the day of the class or do not show up during the class time they are ineligible for a refund. \nCONTACT US \nHere at The Eclectic Chic Boutique\, we offer workshops\, DIY kits\, and private sessions. You can contact us at: Kristen@TheEclecticChicBoutique.com or 862-221-0644 for more information or to book. Visit us for details on events\, classes\, and shopping. www.TheEclecticChicBoutique.com \n* Please note photos are examples of the project and will vary depending on available materials and your own interpretation.
URL:https://theeclecticchicboutique.com/event/japanese-flower-arrainging-workshop/
LOCATION:The Eclectic Chic Boutique\, 547 Bloomfield Avenue\, Montclair\, NJ\, 07042\, United States
CATEGORIES:Adult,Family,Kids,Painting, Drawing, Paper Crafts,Teen,Workshop
ATTACH;FMTTYPE=image/png:https://theeclecticchicboutique.com/wp-content/uploads/2025/08/Japanese-Flower-Arranging-Workshop-1.png
GEO:40.8154765;-74.2193579
X-APPLE-STRUCTURED-LOCATION;VALUE=URI;X-ADDRESS=The Eclectic Chic Boutique 547 Bloomfield Avenue Montclair NJ 07042 United States;X-APPLE-RADIUS=500;X-TITLE=547 Bloomfield Avenue:geo:-74.2193579,40.8154765
END:VEVENT
BEGIN:VEVENT
DTSTART;TZID=America/New_York:20251102T170000
DTEND;TZID=America/New_York:20251102T190000
DTSTAMP:20260422T081838
CREATED:20250914T180251Z
LAST-MODIFIED:20251011T180323Z
UID:10000335-1762102800-1762110000@theeclecticchicboutique.com
SUMMARY:Transition Your Wardrobe Sewing Workshop
DESCRIPTION:Join us and learn basic sewing and design techniques to update your wardrobe to match your gender identity and style! Learning to sew is a great life skill to have\, you can make your own repairs and adjustments\, as well as repurpose old clothes to turn them into one of a kind fashion. No sewing experience necessary. Bring one piece of clothing you would like to upcycle. If you have a sewing machine or sewing needles and materials from home you want to use you are welcome to bring in and use during this session. We will have some sewing materials and tools on hand for you to use and get creative. \nThis event is in partnership with Out Montclair. Visit https://outmontclair.org/ to learn more about their mission. \nWhat you will be using in class: Participants will be using a needle\, thread\, fabric notions\, embellishments\, and fabric shears to transform their clothing item into a new piece of fun fashion. \nWhat you need to bring: Participants need to bring in one piece of clothing from home – a shirt\, a pair of pants\, a shirt\, or other clothing item. I you have additional articles of clothing or fabrics that you would like to use as material for the piece you want to make you are welcome to bring in as well. \nWhat you will make and take home: One upcycled piece of clothing you redesigned. \n___ \nPARTICIPATION \nThis In Person Class takes place at The Eclectic Chic Boutique located at 547 Bloomfield Ave\, Montclair NJ. \nAPPROPRIATE AGES FOR PARTICIPATION  \nThis class is appropriate for Adults and Teens to participate in. Participants must be at least 14 years old or older and can work independently. If a participant needs a caretaker or parent to assist with the project the assisting person does not need a ticket. \nCANCELATION & RESCHEDULING \nIt is the Participant’s responsibility to contact us prior to the event if they are unable to attend for any reason. If we as the Organizers need to reschedule an event participants will be notified. \nParticipants are eligible for a refund if the request is submitted up to 7 days in advance of the class date. Participants who submit a request 6 days or less in advance are eligible for a 50% refund or an opportunity to apply credit to a future class. If participants cancel the day of the class or do not show up during the class time they are ineligible for a refund. \nCONTACT US \nHere at The Eclectic Chic Boutique\, we offer workshops\, DIY kits\, and private sessions. You can contact us at: Kristen@TheEclecticChicBoutique.com or 862-221-0644 for more information or to book. Visit us for details on events\, classes\, and shopping. www.TheEclecticChicBoutique.com \n* Please note photos are examples of the project and will vary depending on available materials and your own interpretation.
URL:https://theeclecticchicboutique.com/event/transition-your-wardrobe-sewing-workshop-2/
LOCATION:The Eclectic Chic Boutique\, 547 Bloomfield Avenue\, Montclair\, NJ\, 07042\, United States
CATEGORIES:Adult,Community Event,Crochet, Knitting and Sewing,Special Event,Teen,Workshop
ATTACH;FMTTYPE=image/png:https://theeclecticchicboutique.com/wp-content/uploads/2025/09/OutMontclair-Sewing-Workshop-1920-x-1080-px.png
GEO:40.8154765;-74.2193579
X-APPLE-STRUCTURED-LOCATION;VALUE=URI;X-ADDRESS=The Eclectic Chic Boutique 547 Bloomfield Avenue Montclair NJ 07042 United States;X-APPLE-RADIUS=500;X-TITLE=547 Bloomfield Avenue:geo:-74.2193579,40.8154765
END:VEVENT
BEGIN:VEVENT
DTSTART;TZID=America/New_York:20251107T190000
DTEND;TZID=America/New_York:20251107T203000
DTSTAMP:20260422T081838
CREATED:20250925T191831Z
LAST-MODIFIED:20251001T171053Z
UID:10000343-1762542000-1762547400@theeclecticchicboutique.com
SUMMARY:Free First Friday: Leaf Bowl Making Workshop
DESCRIPTION:Join us for Free First Friday! On the first Friday of each month\, we’ll host a free activity. If you’ve always wanted to try a class with us\, this is the perfect opportunity! RSVP is required\, as there are only 12 seats available. You’re welcome to bring your own snacks and beverages. \nReady to get your hands dirty and make something beautiful? In this beginner-friendly workshop\, you’ll learn how to create your own unique clay trinket dish with a stunning leaf design. We’ll provide everything you need\, including air-dry clay\, faux leaves\, and a bowl to form your dish. Guided step by step\, you’ll press a real leaf into the clay to create an intricate pattern before shaping your dish. At the end of class\, you’ll have a one-of-a-kind dish\, perfect for holding jewelry\, keys\, or any other small treasures. \n___ \nPARTICIPATION \nThis class can be held In Person at The Eclectic Chic Boutique located at 547 Bloomfield Ave\, Montclair NJ. \nAPPROPRIATE AGES FOR PARTICIPATION  \nThis class is appropriate for Adults and Teens to participate in. Participants must be at least 13 years old or older and can work independently. If a participant needs a caretaker or parent to assist the caretaker does not need a ticket.  \nCONTACT US \nHere at The Eclectic Chic Boutique\, we offer workshops\, DIY kits\, and private sessions. You can contact us at: Kristen@TheEclecticChicBoutique.com or 862-221-0644 for more information or to book. Visit us for details on events\, classes\, and shopping. www.TheEclecticChicBoutique.com \n* Please note photos are examples of the project and will vary depending on available materials and your own interpretation.
URL:https://theeclecticchicboutique.com/event/free-first-friday-leaf-bowl-making-workshop/
LOCATION:The Eclectic Chic Boutique\, 547 Bloomfield Avenue\, Montclair\, NJ\, 07042\, United States
CATEGORIES:Adult,Baby and Me,Sculpture and 3D Art,Teen,Workshop
ATTACH;FMTTYPE=image/png:https://theeclecticchicboutique.com/wp-content/uploads/2025/09/Free-First-Friday-Leaf-Bowl-Making-Workshop_1.png
GEO:40.8154765;-74.2193579
X-APPLE-STRUCTURED-LOCATION;VALUE=URI;X-ADDRESS=The Eclectic Chic Boutique 547 Bloomfield Avenue Montclair NJ 07042 United States;X-APPLE-RADIUS=500;X-TITLE=547 Bloomfield Avenue:geo:-74.2193579,40.8154765
END:VEVENT
BEGIN:VEVENT
DTSTART;TZID=America/New_York:20251109T150000
DTEND;TZID=America/New_York:20251109T170000
DTSTAMP:20260422T081838
CREATED:20250914T193204Z
LAST-MODIFIED:20251109T140208Z
UID:10000336-1762700400-1762707600@theeclecticchicboutique.com
SUMMARY:Skincare & Selfcare Workshop
DESCRIPTION:Join us for a calm and refreshing afternoon learning how to craft your own DIY skincare items in a safe and welcoming space. In this workshop you’ll learn how to take all natural ingredients\, some you can even find in your own kitchen\, and make your own sugar scrub and bath fizz. A sugar scrub is a product that exfoliates your skin\, giving you a smooth appearance and radiant glow. Bath Fizz is a fun aromatic powder to can add to your bath for a calm and relaxing bath time experience. Connect with your community\, express your creativity\, and practice some well-deserved self-care. This session is Trans and LGBTQ friendly. \nThis event is in partnership with Out Montclair. Visit https://outmontclair.org/ to learn more about their mission. \nWhat you will be using in class: Participants will use a variety of all natural ingredients to make a mini sugar scrub and mini bath fizz. \nWhat you will make and take home: One 2 oz sugar scrub and one 2 oz bath fizz \n___ \nPARTICIPATION \nThis In Person Class takes place at The Eclectic Chic Boutique located at 547 Bloomfield Ave\, Montclair NJ. \nAPPROPRIATE AGES FOR PARTICIPATION  \nThis class is appropriate for Adults and Teens to participate in. Participants must be at least 14 years old or older and can work independently. If a participant needs a caretaker or parent to assist with the project the assisting person does not need a ticket. \nCANCELATION & RESCHEDULING \nIt is the Participant’s responsibility to contact us prior to the event if they are unable to attend for any reason. If we as the Organizers need to reschedule an event participants will be notified. \nParticipants are eligible for a refund if the request is submitted up to 7 days in advance of the class date. Participants who submit a request 6 days or less in advance are eligible for a 50% refund or an opportunity to apply credit to a future class. If participants cancel the day of the class or do not show up during the class time they are ineligible for a refund. \nCONTACT US \nHere at The Eclectic Chic Boutique\, we offer workshops\, DIY kits\, and private sessions. You can contact us at: Kristen@TheEclecticChicBoutique.com or 862-221-0644 for more information or to book. Visit us for details on events\, classes\, and shopping. www.TheEclecticChicBoutique.com \n* Please note photos are examples of the project and will vary depending on available materials and your own interpretation.
URL:https://theeclecticchicboutique.com/event/skincare-selfcare-workshop/
LOCATION:The Eclectic Chic Boutique\, 547 Bloomfield Avenue\, Montclair\, NJ\, 07042\, United States
CATEGORIES:Adult,Community Event,Soap Making and Skincare,Special Event,Teen,Workshop
ATTACH;FMTTYPE=image/png:https://theeclecticchicboutique.com/wp-content/uploads/2025/09/Skincare-Self-Care-1920-x-1080-px-1.png
GEO:40.8154765;-74.2193579
X-APPLE-STRUCTURED-LOCATION;VALUE=URI;X-ADDRESS=The Eclectic Chic Boutique 547 Bloomfield Avenue Montclair NJ 07042 United States;X-APPLE-RADIUS=500;X-TITLE=547 Bloomfield Avenue:geo:-74.2193579,40.8154765
END:VEVENT
BEGIN:VEVENT
DTSTART;TZID=America/New_York:20251116T190000
DTEND;TZID=America/New_York:20251116T203000
DTSTAMP:20260422T081838
CREATED:20251001T223217Z
LAST-MODIFIED:20251001T225613Z
UID:10000338-1763319600-1763325000@theeclecticchicboutique.com
SUMMARY:Chocolate Bar Making Workshop
DESCRIPTION:Indulge your sweet tooth and dive into the world of chocolate making. In this workshop you’ll craft three custom chocolate bars from start to finish. You’ll learn how to melt chocolate\, fill molds\, and decorate with edible toppings like nuts\, sprinkles\, and more. This is a fun easy beginner level class. This is a fun opportunity to make a fun treat for yourself or to give out as gifts. Bring a friend\, family member\, your spouse\, or coworker. Or join in and make some new friends and sweet memories. \nWhat you will be using in class: Participants will be provided with a selection of dark\, milk or white chocolate for the base\, and a variety of toppings – including crunchy nuts\, sweet raisins\, classic M&Ms\, crushed Oreos\, toasted coconut\, and salty pretzels. \nWhat you will make and take home: At the end of the class\, each participant will take home three unique chocolate bars. \n___ \nPARTICIPATION \nThis In Person Class takes place at The Eclectic Chic Boutique located at 547 Bloomfield Ave\, Montclair NJ. Materials and tools will be provided during the class. \nAPPROPRIATE AGES FOR PARTICIPATION \nParticipants must be at least 16 years old or older and can work independently. If a participant needs a caretaker or parent to assist with the project the assisting person does not need a ticket. \nCANCELATION & RESCHEDULING \nIt is the Participant’s responsibility to contact us prior to the event if they are unable to attend for any reason. If we as the Organizers need to reschedule an event participants will be notified. \nParticipants are eligible for a refund if the request is submitted up to 7 days in advance of the class date. Participants who submit a request 6 days or less in advance are eligible for a 50% refund or an opportunity to apply credit to a future class. If participants cancel the day of the class or do not show up during the class time they are ineligible for a refund.  \nCONTACT US \nHere at The Eclectic Chic Boutique\, we offer workshops\, DIY kits\, and private sessions. You can contact us at: Kristen@TheEclecticChicBoutique.com or 862-221-0644 for more information or to book. Visit us for details on events\, classes\, and shopping. www.TheEclecticChicBoutique.com \n* Please note photos are examples of the project and will vary depending on available materials and your own interpretation.
URL:https://theeclecticchicboutique.com/event/chocolate-bar-making-workshop/
LOCATION:The Eclectic Chic Boutique\, 547 Bloomfield Avenue\, Montclair\, NJ\, 07042\, United States
CATEGORIES:Adult,Cooking and Baking,Family,Special Event,Teen,Workshop
ATTACH;FMTTYPE=image/png:https://theeclecticchicboutique.com/wp-content/uploads/2025/09/Chocolate-Bar-Making-Workshop.png
GEO:40.8154765;-74.2193579
X-APPLE-STRUCTURED-LOCATION;VALUE=URI;X-ADDRESS=The Eclectic Chic Boutique 547 Bloomfield Avenue Montclair NJ 07042 United States;X-APPLE-RADIUS=500;X-TITLE=547 Bloomfield Avenue:geo:-74.2193579,40.8154765
END:VEVENT
BEGIN:VEVENT
DTSTART;TZID=America/New_York:20251121T190000
DTEND;TZID=America/New_York:20251121T203000
DTSTAMP:20260422T081838
CREATED:20250925T213024Z
LAST-MODIFIED:20251030T184712Z
UID:10000341-1763751600-1763757000@theeclecticchicboutique.com
SUMMARY:Wood Wick Candle Centerpiece Workshop
DESCRIPTION:Join us for a fun and festive workshop where you’ll learn to craft a unique holiday scented wood wick candle. While your candle sets\, you’ll design a personalized wooden candle holder to complete your holiday centerpiece using a real wood base\, a pine wreath\, mini pine cones\, colorful paint pens\, and fun holiday and winter embellishments.  \nThis is a great opportunity to make a thoughtful gift for friends and family or a special piece for your own home. Invite your loved ones to join you for a memorable crafting experience! Everyone will make one scented candle with a festive centerpiece base.  \n___ \nPARTICIPATION \nThis In Person Class takes place at The Eclectic Chic Boutique located at 547 Bloomfield Ave\, Montclair NJ. Materials and tools will be provided during the class.  \nAPPROPRIATE AGES FOR PARTICIPATION  \nThis class is appropriate for Adults and Teens to participate in. Participants must be at least 14 years old or older and can work independently. If a participant needs a caretaker or parent to assist with the project the assisting person does not need a ticket.  \nCANCELATION & RESCHEDULING \nIt is the Participant’s responsibility to contact us prior to the event if they are unable to attend for any reason. If we as the Organizers need to reschedule an event there is no rescheduling fee\, and participants will be notified of any changes \nParticipants are eligible for a refund if the request is submitted 7 days in advance of the class date. Participants who submit a request 6 days or less in advance are eligible for a 50% refund or an opportunity to apply credit to a future class. If participants cancel the day of the class or do not show up during the class time they are ineligible for a refund. \nThere is a $25 rescheduling fee to reschedule a class. You can review our Cancelation & Rescheduling policies here: https://theeclecticchicboutique.com/class-policies/  \nCONTACT US \nHere at The Eclectic Chic Boutique\, we offer workshops\, DIY kits\, and private sessions. You can contact us at: Kristen@TheEclecticChicBoutique.com or 862-221-0644 for more information or to book. Visit us for details on events\, classes\, and shopping. www.TheEclecticChicBoutique.com \n* Please note photos are examples of the project and will vary depending on available materials and your own interpretation.
URL:https://theeclecticchicboutique.com/event/wood-wick-candle-centerpiece-workshop-2/
LOCATION:The Eclectic Chic Boutique\, 547 Bloomfield Avenue\, Montclair\, NJ\, 07042\, United States
CATEGORIES:Adult,BYOB,Candle Making,Sculpture and 3D Art,Teen,Workshop
ATTACH;FMTTYPE=image/png:https://theeclecticchicboutique.com/wp-content/uploads/2025/09/Wood-Wick-Candle-Centerpiece-Workshop.png
GEO:40.8154765;-74.2193579
X-APPLE-STRUCTURED-LOCATION;VALUE=URI;X-ADDRESS=The Eclectic Chic Boutique 547 Bloomfield Avenue Montclair NJ 07042 United States;X-APPLE-RADIUS=500;X-TITLE=547 Bloomfield Avenue:geo:-74.2193579,40.8154765
END:VEVENT
BEGIN:VEVENT
DTSTART;TZID=America/New_York:20251129T150000
DTEND;TZID=America/New_York:20251129T190000
DTSTAMP:20260422T081838
CREATED:20250925T221042Z
LAST-MODIFIED:20251129T150355Z
UID:10000340-1764428400-1764442800@theeclecticchicboutique.com
SUMMARY:Cookie House Making Party
DESCRIPTION:Get into the holiday spirit by decorating your own candy cookie house! We’ll supply the prebuilt graham cracker house and all the sweet treats to adorn your miniature house. All the design elements will be edible. We welcome you and your friends to join in on a festive wintery activity that leaves your kitchen mess free. \nWith slots throughout the day there should be a time that is just right for you. Reserve your spot before they all fill up. The royal icing\, candies and blank houses will be waiting for you.  \nThis hands-on workshop is suitable for all skill levels. Great for parents and kids to take together or a fun time out with friends. \n___ \nPARTICIPATION \nThis In Person Class takes place at The Eclectic Chic Boutique located at 547 Bloomfield Ave\, Montclair NJ. \nAPPROPRIATE AGES FOR PARTICIPATION  \nThis class is appropriate for Adults\, Kids and Teens to participate in. Participants must be at least 5 years old or older and can work independently. If a participant needs a caretaker or parent to assist with the project the assisting person does not need a ticket.  \nCANCELATION & RESCHEDULING \nIt is the Participant’s responsibility to contact us prior to the event if they are unable to attend for any reason. If we as the Organizers need to reschedule an event participants will be notified. \nParticipants are eligible for a refund if the request is submitted up to 7 days in advance of the class date. Participants who submit a request 6 days or less in advance are eligible for a 50% refund or an opportunity to apply credit to a future class. If participants cancel the day of the class or do not show up during the class time they are ineligible for a refund. \nCONTACT US \nHere at The Eclectic Chic Boutique\, we offer workshops\, DIY kits\, and private sessions. You can contact us at: Kristen@TheEclecticChicBoutique.com or 862-221-0644 for more information or to book. Visit us for details on events\, classes\, and shopping. www.TheEclecticChicBoutique.com \n* Please note photos are examples of the project and will vary depending on available materials and your own interpretation.
URL:https://theeclecticchicboutique.com/event/cookie-house-making-party/
LOCATION:The Eclectic Chic Boutique\, 547 Bloomfield Avenue\, Montclair\, NJ\, 07042\, United States
CATEGORIES:Adult,Cooking and Baking,Family,Kids,Neurodiverse Friendly,Special Event,Teen,Workshop
ATTACH;FMTTYPE=image/png:https://theeclecticchicboutique.com/wp-content/uploads/2025/09/Cookie-House-Party.png
GEO:40.8154765;-74.2193579
X-APPLE-STRUCTURED-LOCATION;VALUE=URI;X-ADDRESS=The Eclectic Chic Boutique 547 Bloomfield Avenue Montclair NJ 07042 United States;X-APPLE-RADIUS=500;X-TITLE=547 Bloomfield Avenue:geo:-74.2193579,40.8154765
END:VEVENT
END:VCALENDAR