BEGIN:VCALENDAR
VERSION:2.0
PRODID:-//The Eclectic Chic Boutique - ECPv6.15.20//NONSGML v1.0//EN
CALSCALE:GREGORIAN
METHOD:PUBLISH
X-WR-CALNAME:The Eclectic Chic Boutique
X-ORIGINAL-URL:https://theeclecticchicboutique.com
X-WR-CALDESC:Events for The Eclectic Chic Boutique
REFRESH-INTERVAL;VALUE=DURATION:PT1H
X-Robots-Tag:noindex
X-PUBLISHED-TTL:PT1H
BEGIN:VTIMEZONE
TZID:America/New_York
BEGIN:DAYLIGHT
TZOFFSETFROM:-0500
TZOFFSETTO:-0400
TZNAME:EDT
DTSTART:20240310T070000
END:DAYLIGHT
BEGIN:STANDARD
TZOFFSETFROM:-0400
TZOFFSETTO:-0500
TZNAME:EST
DTSTART:20241103T060000
END:STANDARD
BEGIN:DAYLIGHT
TZOFFSETFROM:-0500
TZOFFSETTO:-0400
TZNAME:EDT
DTSTART:20250309T070000
END:DAYLIGHT
BEGIN:STANDARD
TZOFFSETFROM:-0400
TZOFFSETTO:-0500
TZNAME:EST
DTSTART:20251102T060000
END:STANDARD
BEGIN:DAYLIGHT
TZOFFSETFROM:-0500
TZOFFSETTO:-0400
TZNAME:EDT
DTSTART:20260308T070000
END:DAYLIGHT
BEGIN:STANDARD
TZOFFSETFROM:-0400
TZOFFSETTO:-0500
TZNAME:EST
DTSTART:20261101T060000
END:STANDARD
END:VTIMEZONE
BEGIN:VEVENT
DTSTART;TZID=America/New_York:20250118T160000
DTEND;TZID=America/New_York:20250118T173000
DTSTAMP:20260423T000928
CREATED:20241212T002552Z
LAST-MODIFIED:20241224T001129Z
UID:10000186-1737216000-1737221400@theeclecticchicboutique.com
SUMMARY:Sewing Machine Basics for Kids Age 8 to 12
DESCRIPTION:Dive into the colorful world of sewing with your little fashionista in our fun and engaging Sewing Machine Basics workshop! Perfect for curious minds and creative fingers aged 8-12\, this workshop will equip young explorers with the essential skills to transform fabric into awesome creations!  \nIn this exciting adventure\, your child will: \n\nMeet their new best friend: the sewing machine! Learn its parts\, functions\, and how to safely operate it with confidence.\nMaster the magic of thread: From threading the needle to winding the bobbin\, they’ll conquer all the fundamentals like tiny sewing superheroes!\nStitch up a storm: Practice straight lines\, curves\, and zigzags\, mastering basic stitches that unlock a world of sewing possibilities.\nJoin a supportive community: Make new friends who share their passion for sewing and learn from experienced instructors who guide them every step of the way.\n\nBy the end of this workshop\, your child will: \n\nGain confidence and independence: Operating a sewing machine fosters a sense of accomplishment and boosts self-esteem.\nNurture their creativity: Sewing opens doors to endless possibilities for self-expression and personalized projects.\nDevelop valuable skills: They’ll learn hand-eye coordination\, problem-solving\, and fine motor skills through the joy of sewing.\nExperience the power of making: From choosing the fabric to crafting their own unique creation\, they’ll discover the satisfaction of seeing their vision come to life.\n\nSo\, let your child’s imagination take flight! Sign them up for our Sewing Machine Basics workshop today and watch their love for sewing blossom! Participants must provide their own sewing machine. \n___ \nHOW TO PARTICIPATE IN CLASS \nThis class is available to take In Person at our Shop at 547 Bloomfield Ave\, Montclair\, NJ 07042. Participants must provide their own sewing machine and ensure that it is in working condition\, along with thread\, bobbins\, and the machine’s instruction manual. Fabrics will be provided for participants to use during the class. \nAPPROPRIATE AGES FOR PARTICIPATION  \nThis class is appropriate for Children aged 8 to 12 years old\, and who can work independently. If a participant needs a caretaker or parent to assist with the project the assisting person does not need a ticket.  \nCLASS PARTICIPATION \nParticipants must attend on the scheduled date and time of the class in order to partake. It is the Participant’s responsibility to contact us prior to the event if they are unable to attend for any reason. If we as the Organizers need to reschedule an event there is no rescheduling fee\, and participants will be notified of any changes. \nCANCELATION & RESCHEDULING \nIt is the Participant’s responsibility to contact us prior to the event if they are unable to attend for any reason. If we as the Organizers need to reschedule an event participants will be notified. \nParticipants are eligible for a refund if the request is submitted 7 days in advance of the class date. Participants who submit a request 6 days or less in advance are eligible for a 50% refund or an opportunity to apply credit to a future class. If participants cancel the day of the class or do not show up during the class time they are ineligible for a refund. \nCONTACT US \nHere at The Eclectic Chic Boutique\, we offer workshops\, DIY kits\, and private sessions. You can contact us at: Kristen@TheEclecticChicBoutique.com or 862-221-0644 for more information or to book. Visit us for details on events\, classes\, and shopping. www.TheEclecticChicBoutique.com \n* Please note photos are examples of the project and will vary depending on available materials and your own interpretation.
URL:https://theeclecticchicboutique.com/event/sewing-machine-basics-for-kids-age-8-to-12/
LOCATION:The Eclectic Chic Boutique\, 547 Bloomfield Avenue\, Montclair\, NJ\, 07042\, United States
CATEGORIES:Crochet, Knitting and Sewing,Kids,Workshop
ATTACH;FMTTYPE=image/png:https://theeclecticchicboutique.com/wp-content/uploads/2024/12/Sewing-Machine-Basics-for-Kids-Workshop-Age-8-to-12.png
GEO:40.8154765;-74.2193579
X-APPLE-STRUCTURED-LOCATION;VALUE=URI;X-ADDRESS=The Eclectic Chic Boutique 547 Bloomfield Avenue Montclair NJ 07042 United States;X-APPLE-RADIUS=500;X-TITLE=547 Bloomfield Avenue:geo:-74.2193579,40.8154765
END:VEVENT
BEGIN:VEVENT
DTSTART;TZID=America/New_York:20250118T173000
DTEND;TZID=America/New_York:20250118T190000
DTSTAMP:20260423T000928
CREATED:20241212T003611Z
LAST-MODIFIED:20241219T213552Z
UID:10000187-1737221400-1737226800@theeclecticchicboutique.com
SUMMARY:Sewing Machine Workshop For Teens & Adults
DESCRIPTION:Ever dreamt of whipping up your own stylish clothes\, home décor\, or even accessories? Join our Sewing Machine Basics workshop\, designed to transform sewing novices into confident creators! Whether you’re a teen embarking on a creative journey or an adult seeking a fulfilling new hobby\, this workshop is your passport to the exciting world of sewing! \nIn this comprehensive workshop\, you’ll: \n\nMeet your new best friend: the sewing machine! Demystify its parts\, functions\, and operation with clear\, beginner-friendly instruction.\nMaster the magic of thread: Learn to wind a bobbin\, thread a needle\, and conquer basic stitches like straight seams\, zigzags\, and buttonholes.\nUnleash your inner designer: Explore a variety of fabrics and notions\, discovering their unique properties and applications.\nJoin a supportive community: Connect with fellow sewing enthusiasts in a fun and encouraging environment. Share tips\, troubleshoot challenges\, and celebrate each other’s successes.\n\nBy the end of this workshop\, you’ll: \n\nGain the confidence to operate a sewing machine independently.\nDevelop valuable skills: Improve hand-eye coordination\, problem-solving abilities\, and fine motor skills.\nNurture your creativity: Sewing opens doors to endless possibilities for self-expression and personalized projects.\nExperience the joy of making: From choosing your fabric to seeing your vision come to life\, sewing is a rewarding and therapeutic activity.\n\nParticipants will need to provide their own sewing machine for this class. \nNo prior sewing experience is necessary! Our experienced instructors will guide you every step of the way\, ensuring you learn proper techniques and build a strong foundation for your sewing journey.  \n___ \nHOW TO PARTICIPATE IN CLASS \nThis class is available to take In Person at our Shop at 547 Bloomfield Ave\, Montclair\, NJ 07042. Participants will need to provide their own sewing machine to participant and ensure that it is in working condition. Participants will also need to bring the instruction manual that came with their sewing machine.  \nAPPROPRIATE AGES FOR PARTICIPATION  \nThis class is appropriate for Adults and Teens to participate in. Participants must be at least 13 years old or older and can work independently. If a participant needs a caretaker or parent to assist with the project the assisting person does not need a ticket.  \nCLASS PARTICIPATION \nIt is the Participant’s responsibility to contact us prior to the event if they are unable to attend for any reason. If we as the Organizers need to reschedule an event there is no rescheduling fee\, and participants will be notified of any changes. \nCANCELATION & RESCHEDULING \nIt is the Participant’s responsibility to contact us prior to the event if they are unable to attend for any reason. If we as the Organizers need to reschedule an event participants will be notified. \nParticipants are eligible for a refund if the request is submitted 7 days in advance of the class date. Participants who submit a request 6 days or less in advance are eligible for a 50% refund or an opportunity to apply credit to a future class. If participants cancel the day of the class or do not show up during the class time they are ineligible for a refund. \nCONTACT US \nHere at The Eclectic Chic Boutique\, we offer workshops\, DIY kits\, and private sessions. You can contact us at: Kristen@TheEclecticChicBoutique.com or 862-221-0644 for more information or to book. Visit us for details on events\, classes\, and shopping. www.TheEclecticChicBoutique.com
URL:https://theeclecticchicboutique.com/event/sewing-machine-workshop-for-teens-adults/
LOCATION:The Eclectic Chic Boutique\, 547 Bloomfield Avenue\, Montclair\, NJ\, 07042\, United States
CATEGORIES:Adult,Crochet, Knitting and Sewing,Family,Teen,Workshop
ATTACH;FMTTYPE=image/png:https://theeclecticchicboutique.com/wp-content/uploads/2024/12/Sewing-Machine-Workshop-for-Teens-Adults.png
GEO:40.8154765;-74.2193579
X-APPLE-STRUCTURED-LOCATION;VALUE=URI;X-ADDRESS=The Eclectic Chic Boutique 547 Bloomfield Avenue Montclair NJ 07042 United States;X-APPLE-RADIUS=500;X-TITLE=547 Bloomfield Avenue:geo:-74.2193579,40.8154765
END:VEVENT
BEGIN:VEVENT
DTSTART;TZID=America/New_York:20250119T150000
DTEND;TZID=America/New_York:20250119T170000
DTSTAMP:20260423T000928
CREATED:20241212T005520Z
LAST-MODIFIED:20241217T232023Z
UID:10000188-1737298800-1737306000@theeclecticchicboutique.com
SUMMARY:Cricut Basics Workshop
DESCRIPTION:Do you dream of crafting personalized vinyl decals or creating stunning fabric projects? Join our Cricut Machine Basics Workshop! This comprehensive workshop equips you with the essential skills and knowledge to transform this powerful cutting tool into your creative partner\, opening doors to a world of endless possibilities.\n\nWhether you’re a seasoned crafter or a complete beginner\, this workshop is perfect for you! We’ll guide you through every step of the process\, from setting up your Cricut machine to choosing materials and designing your projects. \nParticipants will need to bring their own Cricut Machine (Joy\, Explorer or Maker)\, and ensure it is in working order\, a laptop\, weeding tools\, a green cutting mat\, a blank mug\, and a blank t-shirt to participate. \nIn this exciting workshop\, you’ll: \n\nSet up a project in Design Space\nLearn how to use Shapes and Text\nHow to cut using your machine and cutting mat\nHow to weed using Cricut tools\nHow to apply vinyl to your mug\nHow to apply HTV to tee shirt and use a heat press (provided by the teacher to use for class)\n\nBy the end of this workshop\, you’ll: \n\nOperate your Cricut machine with confidence and ease.\nDevelop basic design skills and explore Cricut Design Space like a pro.\nCraft personalized and unique projects that reflect your style.\nExperience the joy of creating and the satisfaction of seeing your vision come to life.\n\nNo prior Cricut experience is necessary! Our experienced instructors will guide you every step of the way\, ensuring you have a fun and successful learning experience. \n___ \nHOW TO PARTICIPATE IN CLASS \nThis class is available to take In Person our shop located at 547 Bloomfield Ave\, Montclair NJ. Materials will be provided at the shop. Participants must provide their own working Cricut Joy\, Explore\, or Maker machine\, weeding tools\, green cutting mat\, a blank mug\, and blank t-shirt in order to participate.  \nNOTE: Class will only use default assets from Design Space program\, no personal projects or images please. \nAPPROPRIATE AGES FOR PARTICIPATION  \nThis class is appropriate for Adults and Teens to participate in. Participants must be at least 15 years old or older and can work independently. If a participant needs a caretaker or parent to assist with the project the assisting person does not need a ticket.  \nCLASS PARTICIPATION \nParticipants must attend on the scheduled date and time of the class in order to partake. It is the Participant’s responsibility to contact us prior to the event if they are unable to attend for any reason. If we as the Organizers need to reschedule an event there is no rescheduling fee\, and participants will be notified of any changes. \nCANCELATION & RESCHEDULING \nIt is the Participant’s responsibility to contact us prior to the event if they are unable to attend for any reason. If we as the Organizers need to reschedule an event participants will be notified. \nParticipants are eligible for a refund if the request is submitted 7 days in advance of the class date. Participants who submit a request 6 days or less in advance are eligible for a 50% refund or an opportunity to apply credit to a future class. If participants cancel the day of the class or do not show up during the class time they are ineligible for a refund. \nCONTACT US \nHere at The Eclectic Chic Boutique\, we offer workshops\, DIY kits\, and private sessions. You can contact us at: Kristen@TheEclecticChicBoutique.com or 862-221-0644 for more information or to book. Visit us for details on events\, classes\, and shopping. www.TheEclecticChicBoutique.com \n* Please note photos are examples of the project and will vary depending on available materials and your own interpretation.
URL:https://theeclecticchicboutique.com/event/cricut-basics-workshop/
LOCATION:The Eclectic Chic Boutique\, 547 Bloomfield Avenue\, Montclair\, NJ\, 07042\, United States
CATEGORIES:Adult,Digital Arts & Technology,Family,Teen,Workshop
ATTACH;FMTTYPE=image/png:https://theeclecticchicboutique.com/wp-content/uploads/2024/12/Cricut-Basics-Workshop.png
GEO:40.8154765;-74.2193579
X-APPLE-STRUCTURED-LOCATION;VALUE=URI;X-ADDRESS=The Eclectic Chic Boutique 547 Bloomfield Avenue Montclair NJ 07042 United States;X-APPLE-RADIUS=500;X-TITLE=547 Bloomfield Avenue:geo:-74.2193579,40.8154765
END:VEVENT
BEGIN:VEVENT
DTSTART;TZID=America/New_York:20250124T190000
DTEND;TZID=America/New_York:20250124T203000
DTSTAMP:20260423T000928
CREATED:20241212T010959Z
LAST-MODIFIED:20241217T232727Z
UID:10000189-1737745200-1737750600@theeclecticchicboutique.com
SUMMARY:Corner to Corner Crochet Scarf Workshop
DESCRIPTION:In this class\, you will learn how to crochet a beautiful scarf using the corner-to-corner (C2C) technique. This technique is easy to learn and can be used to create a variety of projects\, from scarves to blankets. Our experienced instructor will teach you the C2C technique in detail\, and you will have the opportunity to practice your skills during the class. We highly recommend having some crochet experience for this class\, knowing how to slip stitch\, single crochet and double crochet.  \nYou will be able to crochet a beautiful scarf that you can wear with pride. You will also have the skills to create other C2C projects\, such as blankets\, afghans\, and dishcloths. \nParticipants must bring their own yarn and crochet hook. Four skeins of yarn of your choice\, different colors. Or\, alternatively\, you can use scraps of yarn leftover from other projects. Bring a crochet hook of appropriate size for your yarn.  \nOur experienced instructor will review the basics of C2C crochet\, including how to: \n\nChain stitch\nSingle crochet\nDouble crochet\nWork in rows and columns\nChange colors \n\nBy the end of the course\, you will have: \n\nLearned the basics of C2C crochet*Created your own beautiful and unique scarf\nGained the confidence to crochet other projects\n\nThis class is perfect for anyone who wants to learn how to crochet or who wants to improve their crochet skills. You will start making the scarf in the class\, but you will complete it on your own. \n___ \nHOW TO PARTICIPATE IN CLASS \nIn Person Class session takes place at our shop located at 547 Bloomfield Ave\, Montclair NJ. Participants must bring their own yarn and crochet hook. Four skeins of yarn of your choice\, different colors. Or\, alternatively\, you can use scraps of yarn leftover from other projects. Bring a crochet hook of appropriate size for your yarn. \nParticipants will have finished a partial scarf during the class. Participants will be expected to finish the scarf at home\, or may request a follow up session with the teacher. \nAPPROPRIATE AGES FOR PARTICIPATION  \nThis class is appropriate for Adults and Teens to participate in. Participants must be at least 13 years old or older and can work independently. If a participant needs a caretaker or parent to assist with the project the assisting person does not need a ticket.  \nCLASS PARTICIPATION \nParticipants must attend on the scheduled date and time of the class in order to partake. It is the Participant’s responsibility to contact us prior to the event if they are unable to attend for any reason. If we as the Organizers need to reschedule an event there is no rescheduling fee\, and participants will be notified of any changes. \nCANCELATION & RESCHEDULING \nIt is the Participant’s responsibility to contact us prior to the event if they are unable to attend for any reason. If we as the Organizers need to reschedule an event participants will be notified. \nParticipants are eligible for a refund if the request is submitted 7 days in advance of the class date. Participants who submit a request 6 days or less in advance are eligible for a 50% refund or an opportunity to apply credit to a future class. If participants cancel the day of the class or do not show up during the class time they are ineligible for a refund. \nCONTACT US \nHere at The Eclectic Chic Boutique\, we offer workshops\, DIY kits\, and private sessions. You can contact us at: Kristen@TheEclecticChicBoutique.com or 862-221-0644 for more information or to book. Visit us for details on events\, classes\, and shopping. www.TheEclecticChicBoutique.com \n* Please note photos are examples of the project and will vary depending on available materials and your own interpretation.
URL:https://theeclecticchicboutique.com/event/corner-to-corner-crochet-scarf-workshop/
LOCATION:The Eclectic Chic Boutique\, 547 Bloomfield Avenue\, Montclair\, NJ\, 07042\, United States
CATEGORIES:Adult,Crochet, Knitting and Sewing,Family,Teen,Workshop
ATTACH;FMTTYPE=image/png:https://theeclecticchicboutique.com/wp-content/uploads/2024/12/Corner-to-Corner-Crochet-Scarf-Workshop.png
GEO:40.8154765;-74.2193579
X-APPLE-STRUCTURED-LOCATION;VALUE=URI;X-ADDRESS=The Eclectic Chic Boutique 547 Bloomfield Avenue Montclair NJ 07042 United States;X-APPLE-RADIUS=500;X-TITLE=547 Bloomfield Avenue:geo:-74.2193579,40.8154765
END:VEVENT
BEGIN:VEVENT
DTSTART;TZID=America/New_York:20250125T170000
DTEND;TZID=America/New_York:20250125T183000
DTSTAMP:20260423T000928
CREATED:20241218T181636Z
LAST-MODIFIED:20250112T230725Z
UID:10000190-1737824400-1737829800@theeclecticchicboutique.com
SUMMARY:Journaling for Self Care Workshop
DESCRIPTION:Seeking a simple yet powerful tool to boost your well-being\, manage stress\, and cultivate inner peace? Look no further than Journaling for Self-Care\, a practical workshop designed to unlock the transformative potential of putting pen to paper. Whether you’re a seasoned journaler or a curious beginner\, this workshop will equip you with effective techniques and inspiring prompts to harness the power of introspection for greater self-awareness and emotional balance. \nParticipants will need to bring their own journaling materials – either a notebook and pen\, a tablet\, or laptop. \nIn this transformative session\, you’ll: \n\nLearn about different ways of journaling: From writing\, to doodling\, to lists\, and more.\nUse a inspirational quote as a journaling prompt\nDiscover how to overcome common journaling roadblocks and develop a sustainable journaling practice.\nUnleash your creativity: Experiment with different writing styles\, art journaling techniques\, and visual prompts to find what resonates with you.\nCraft a personalized journaling routine: Tailor strategies to fit your needs and lifestyle\, whether it’s daily micro-journaling or dedicated weekly sessions.\nConnect with a supportive community: Share your experiences\, learn from others\, and build a network of like-minded individuals on your self-care journey.\n\nLeave this workshop equipped with: \n\nPowerful journaling tools and techniques for stress reduction\, self-discovery\, and emotional well-being.\nA personalized journaling routine to nourish your mind\, body\, and spirit.\nA supportive community of fellow self-care seekers to inspire and guide you on your journey.\n\nNo prior journaling experience is necessary! This workshop welcomes everyone with open arms\, offering a nurturing space to explore the transformative power of putting your thoughts and feelings on paper. Taught by mental health advocate Hope\, owner of QuoteHope Tiles. \n___ \nPARTICIPATION \nThis In Person Class takes place at The Eclectic Chic Boutique located at 547 Bloomfield Ave\, Montclair NJ. \nAPPROPRIATE AGES FOR PARTICIPATION  \nThis class is appropriate for Adults and Teens to participate in. Participants must be at least 13 years old or older and can work independently. If a participant needs a caretaker or parent to assist with the project the assisting person does not need a ticket.  \nCANCELATION & RESCHEDULING \nIt is the Participant’s responsibility to contact us prior to the event if they are unable to attend for any reason. If we as the Organizers need to reschedule an event participants will be notified. \nParticipants are eligible for a refund if the request is submitted up to 7 days in advance of the class date. Participants who submit a request 6 days or less in advance are eligible for a 50% refund or an opportunity to apply credit to a future class. If participants cancel the day of the class or do not show up during the class time they are ineligible for a refund. \nCONTACT US \nHere at The Eclectic Chic Boutique\, we offer workshops\, DIY kits\, and private sessions. You can contact us at: Kristen@TheEclecticChicBoutique.com or 862-221-0644 for more information or to book. Visit us for details on events\, classes\, and shopping. www.TheEclecticChicBoutique.com \n* Please note photos are examples of the project and will vary depending on available materials and your own interpretation.
URL:https://theeclecticchicboutique.com/event/journaling-for-self-care-workshop/
LOCATION:The Eclectic Chic Boutique\, 547 Bloomfield Avenue\, Montclair\, NJ\, 07042\, United States
CATEGORIES:Adult,Crystals and Wellness,Teen,Workshop
ATTACH;FMTTYPE=image/png:https://theeclecticchicboutique.com/wp-content/uploads/2024/12/Journaling-For-Self-Care-Workshop.png
ORGANIZER;CN="Hope":MAILTO:info@quotehopetiles.com
GEO:40.8154765;-74.2193579
X-APPLE-STRUCTURED-LOCATION;VALUE=URI;X-ADDRESS=The Eclectic Chic Boutique 547 Bloomfield Avenue Montclair NJ 07042 United States;X-APPLE-RADIUS=500;X-TITLE=547 Bloomfield Avenue:geo:-74.2193579,40.8154765
END:VEVENT
BEGIN:VEVENT
DTSTART;TZID=America/New_York:20250126T130000
DTEND;TZID=America/New_York:20250126T153000
DTSTAMP:20260423T000928
CREATED:20241211T233746Z
LAST-MODIFIED:20250104T194056Z
UID:10000184-1737896400-1737905400@theeclecticchicboutique.com
SUMMARY:Cold Process Soap Making Workshop
DESCRIPTION:Do you dream of creating luxurious\, scented\, all natural soaps? This hands-on workshop is perfect for beginners! You’ll learn the art of cold process soap making\, where you’ll transform simple ingredients like shea butter\, oils\, and lye into beautiful\, fragrant bars of soap. \nOur experienced soap maker will guide you through: \n\nThe basics of saponification – Understanding the chemical reaction that turns oils into soap.\nEssential safety tips and practices for handling lye.\nLearn how to add your own scent and color\n\nThis workshop is ideal for: \n\nSoap enthusiasts: Dive deeper into the world of soap making.\nHobbyists: Discover a rewarding new creative outlet.\nAspiring entrepreneurs: Gain the foundational knowledge to start your own soap business.\n\nEach participant will create 3 pounds of their own handcrafted soap to take home and cure. \n___ \nPARTICIPATION \nThis In Person Class takes place at The Eclectic Chic Boutique located at 547 Bloomfield Ave\, Montclair NJ. \nAPPROPRIATE AGES FOR PARTICIPATION  \nThis class is appropriate for Adults and Teens to participate in. Participants must be at least 16 years old or older and can work independently. If a participant needs a caretaker or parent to assist with the project the assisting person does not need a ticket.  \nCANCELATION & RESCHEDULING \nIt is the Participant’s responsibility to contact us prior to the event if they are unable to attend for any reason. If we as the Organizers need to reschedule an event participants will be notified. \nParticipants are eligible for a refund if the request is submitted up to 7 days in advance of the class date. Participants who submit a request 6 days or less in advance are eligible for a 50% refund or an opportunity to apply credit to a future class. If participants cancel the day of the class or do not show up during the class time they are ineligible for a refund. \nCONTACT US \nHere at The Eclectic Chic Boutique\, we offer workshops\, DIY kits\, and private sessions. You can contact us at: Kristen@TheEclecticChicBoutique.com or 862-221-0644 for more information or to book. Visit us for details on events\, classes\, and shopping. www.TheEclecticChicBoutique.com \n* Please note photos are examples of the project and will vary depending on available materials and your own interpretation.
URL:https://theeclecticchicboutique.com/event/cold-process-soap-making-workshop/
LOCATION:The Eclectic Chic Boutique\, 547 Bloomfield Avenue\, Montclair\, NJ\, 07042\, United States
CATEGORIES:Adult,Soap Making and Skincare,Teen,Workshop
ATTACH;FMTTYPE=image/png:https://theeclecticchicboutique.com/wp-content/uploads/2024/12/Cold-Process-Soap-Making-Workshop.png
GEO:40.8154765;-74.2193579
X-APPLE-STRUCTURED-LOCATION;VALUE=URI;X-ADDRESS=The Eclectic Chic Boutique 547 Bloomfield Avenue Montclair NJ 07042 United States;X-APPLE-RADIUS=500;X-TITLE=547 Bloomfield Avenue:geo:-74.2193579,40.8154765
END:VEVENT
END:VCALENDAR