BEGIN:VCALENDAR
VERSION:2.0
PRODID:-//The Eclectic Chic Boutique - ECPv6.15.20//NONSGML v1.0//EN
CALSCALE:GREGORIAN
METHOD:PUBLISH
X-ORIGINAL-URL:https://theeclecticchicboutique.com
X-WR-CALDESC:Events for The Eclectic Chic Boutique
REFRESH-INTERVAL;VALUE=DURATION:PT1H
X-Robots-Tag:noindex
X-PUBLISHED-TTL:PT1H
BEGIN:VTIMEZONE
TZID:America/New_York
BEGIN:DAYLIGHT
TZOFFSETFROM:-0500
TZOFFSETTO:-0400
TZNAME:EDT
DTSTART:20250309T070000
END:DAYLIGHT
BEGIN:STANDARD
TZOFFSETFROM:-0400
TZOFFSETTO:-0500
TZNAME:EST
DTSTART:20251102T060000
END:STANDARD
BEGIN:DAYLIGHT
TZOFFSETFROM:-0500
TZOFFSETTO:-0400
TZNAME:EDT
DTSTART:20260308T070000
END:DAYLIGHT
BEGIN:STANDARD
TZOFFSETFROM:-0400
TZOFFSETTO:-0500
TZNAME:EST
DTSTART:20261101T060000
END:STANDARD
BEGIN:DAYLIGHT
TZOFFSETFROM:-0500
TZOFFSETTO:-0400
TZNAME:EDT
DTSTART:20270314T070000
END:DAYLIGHT
BEGIN:STANDARD
TZOFFSETFROM:-0400
TZOFFSETTO:-0500
TZNAME:EST
DTSTART:20271107T060000
END:STANDARD
END:VTIMEZONE
BEGIN:VEVENT
DTSTART;TZID=America/New_York:20260110T120000
DTEND;TZID=America/New_York:20260110T143000
DTSTAMP:20260422T224409
CREATED:20251029T173334Z
LAST-MODIFIED:20251214T004927Z
UID:10000359-1768046400-1768055400@theeclecticchicboutique.com
SUMMARY:Rug Tufting 101 Workshop
DESCRIPTION:Learn how to make your own custom rug! This rug tufting class will guide you through creating your own custom rug using a tufting gun. You’ll learn essential techniques for handling the tufting gun safely and effectively\, focusing entirely on mastering the craft since your design and yarn colors will already be prepared on the tufting frame. Once tufting is complete\, you’ll discover how to apply glue and backing to secure and protect your rug. The class finishes with the exciting step of trimming excess yarn\, revealing the final texture and look of your handmade rug. This hands-on experience combines creativity with practical skills to help you craft a unique\, personalized piece. \nThis is a great opportunity to make a fun gift\, to keep or to give. Invite your partner\, friends\, family\, or coworkers for a fun and creative day out. \nBring a mask if you are sensitive to yarn particles and chemical smells from glue.\n \nParticipants will be provided: Tufting Gun\, Monk Cloth\, Backing Fabric\, Yarn\, Tufting Frame\, Adhesive glue\, Adhesive spreader\, Portable Vacuum\, Scissors\, Shears\, Lint scraper \nParticipants will take home: A custom rug as big as 55×55 cm (21×21 in) \n___ \nPARTICIPATION \nThis In Person Class takes place at The Eclectic Chic Boutique located at 547 Bloomfield Ave\, Montclair NJ. \nAPPROPRIATE AGES FOR PARTICIPATION  \nThis class is appropriate for Adults and Teens to participate in. Participants must be at least 14 years old or older and can work independently. If a participant needs a caretaker or parent to assist with the project the assisting person does not need a ticket.  \nCANCELATION & RESCHEDULING \nIt is the Participant’s responsibility to contact us prior to the event if they are unable to attend for any reason. If we as the Organizers need to reschedule an event there is no rescheduling fee\, and participants will be notified of any changes \nParticipants are eligible for a refund if the request is submitted 7 days in advance of the class date. Participants who submit a request 6 days or less in advance are eligible for a 50% refund or an opportunity to apply credit to a future class. If participants cancel the day of the class or do not show up during the class time they are ineligible for a refund. \nThere is a $25 rescheduling fee to reschedule a class. You can review our Cancelation & Rescheduling policies here:  https://theeclecticchicboutique.com/class-policies/  \nCONTACT US \nHere at The Eclectic Chic Boutique\, we offer workshops\, DIY kits\, and private sessions. You can contact us at: Kristen@TheEclecticChicBoutique.com or 862-221-0644 for more information or to book. Visit us for details on events\, classes\, and shopping. www.TheEclecticChicBoutique.com \n* Please note photos are examples of the project and will vary depending on available materials and your own interpretation.
URL:https://theeclecticchicboutique.com/event/rug-tufting-101-workshop/
LOCATION:The Eclectic Chic Boutique\, 547 Bloomfield Avenue\, Montclair\, NJ\, 07042\, United States
CATEGORIES:Adult,Crochet, Knitting and Sewing,Teen,Workshop
ATTACH;FMTTYPE=image/png:https://theeclecticchicboutique.com/wp-content/uploads/2025/10/Rug-Tufting-101-Jan-10.png
GEO:40.8154765;-74.2193579
X-APPLE-STRUCTURED-LOCATION;VALUE=URI;X-ADDRESS=The Eclectic Chic Boutique 547 Bloomfield Avenue Montclair NJ 07042 United States;X-APPLE-RADIUS=500;X-TITLE=547 Bloomfield Avenue:geo:-74.2193579,40.8154765
END:VEVENT
END:VCALENDAR