BEGIN:VCALENDAR
VERSION:2.0
PRODID:-//The Eclectic Chic Boutique - ECPv6.15.20//NONSGML v1.0//EN
CALSCALE:GREGORIAN
METHOD:PUBLISH
X-ORIGINAL-URL:https://theeclecticchicboutique.com
X-WR-CALDESC:Events for The Eclectic Chic Boutique
REFRESH-INTERVAL;VALUE=DURATION:PT1H
X-Robots-Tag:noindex
X-PUBLISHED-TTL:PT1H
BEGIN:VTIMEZONE
TZID:America/New_York
BEGIN:DAYLIGHT
TZOFFSETFROM:-0500
TZOFFSETTO:-0400
TZNAME:EDT
DTSTART:20240310T070000
END:DAYLIGHT
BEGIN:STANDARD
TZOFFSETFROM:-0400
TZOFFSETTO:-0500
TZNAME:EST
DTSTART:20241103T060000
END:STANDARD
BEGIN:DAYLIGHT
TZOFFSETFROM:-0500
TZOFFSETTO:-0400
TZNAME:EDT
DTSTART:20250309T070000
END:DAYLIGHT
BEGIN:STANDARD
TZOFFSETFROM:-0400
TZOFFSETTO:-0500
TZNAME:EST
DTSTART:20251102T060000
END:STANDARD
BEGIN:DAYLIGHT
TZOFFSETFROM:-0500
TZOFFSETTO:-0400
TZNAME:EDT
DTSTART:20260308T070000
END:DAYLIGHT
BEGIN:STANDARD
TZOFFSETFROM:-0400
TZOFFSETTO:-0500
TZNAME:EST
DTSTART:20261101T060000
END:STANDARD
END:VTIMEZONE
BEGIN:VEVENT
DTSTART;TZID=America/New_York:20251104T170000
DTEND;TZID=America/New_York:20251104T190000
DTSTAMP:20260420T124301
CREATED:20250828T003144Z
LAST-MODIFIED:20251102T190551Z
UID:10000323-1762275600-1762282800@theeclecticchicboutique.com
SUMMARY:Sugar Skull Painting Craft Night
DESCRIPTION:Join us for a fun “Craft & Draft” DIY Sugar Skull Painting night\, hosted at Newark Local Beer. Learn how to paint a 3D printed sugar skull charm. After you are done painting your creation you can choose to put it on a keychain or a necklace cord. A talented local artist from The Eclectic Chic Boutique will guide you every step of the way. While your Sugar Skull Charm dries\, kick back and enjoy a complimentary craft beer or refreshing seltzer\, courtesy of Newark Local Beer. Bring your friends\, connect with coworkers\, or come solo and discover your artistic side!\n\n\n$5 admission includes craft session and one beer or seltzer. $45+ value! Fee is non-refundable.
URL:https://theeclecticchicboutique.com/event/sugar-skull-painting-craft-night/
LOCATION:Newark Local Beer\, 538 Broad St\, Newark\, NJ\, 07102\, United States
CATEGORIES:Adult,Painting, Drawing, Paper Crafts,Special Event,Workshop
ATTACH;FMTTYPE=image/png:https://theeclecticchicboutique.com/wp-content/uploads/2025/08/Audible-Craft-Nights-1.png
END:VEVENT
END:VCALENDAR