BEGIN:VCALENDAR
VERSION:2.0
PRODID:-//The Eclectic Chic Boutique - ECPv6.15.20//NONSGML v1.0//EN
CALSCALE:GREGORIAN
METHOD:PUBLISH
X-WR-CALNAME:The Eclectic Chic Boutique
X-ORIGINAL-URL:https://theeclecticchicboutique.com
X-WR-CALDESC:Events for The Eclectic Chic Boutique
REFRESH-INTERVAL;VALUE=DURATION:PT1H
X-Robots-Tag:noindex
X-PUBLISHED-TTL:PT1H
BEGIN:VTIMEZONE
TZID:America/New_York
BEGIN:DAYLIGHT
TZOFFSETFROM:-0500
TZOFFSETTO:-0400
TZNAME:EDT
DTSTART:20240310T070000
END:DAYLIGHT
BEGIN:STANDARD
TZOFFSETFROM:-0400
TZOFFSETTO:-0500
TZNAME:EST
DTSTART:20241103T060000
END:STANDARD
BEGIN:DAYLIGHT
TZOFFSETFROM:-0500
TZOFFSETTO:-0400
TZNAME:EDT
DTSTART:20250309T070000
END:DAYLIGHT
BEGIN:STANDARD
TZOFFSETFROM:-0400
TZOFFSETTO:-0500
TZNAME:EST
DTSTART:20251102T060000
END:STANDARD
BEGIN:DAYLIGHT
TZOFFSETFROM:-0500
TZOFFSETTO:-0400
TZNAME:EDT
DTSTART:20260308T070000
END:DAYLIGHT
BEGIN:STANDARD
TZOFFSETFROM:-0400
TZOFFSETTO:-0500
TZNAME:EST
DTSTART:20261101T060000
END:STANDARD
END:VTIMEZONE
BEGIN:VEVENT
DTSTART;TZID=America/New_York:20251011T140000
DTEND;TZID=America/New_York:20251011T190000
DTSTAMP:20260424T170426
CREATED:20250912T233211Z
LAST-MODIFIED:20250912T233211Z
UID:10000327-1760191200-1760209200@theeclecticchicboutique.com
SUMMARY:Crafty Items by Donna Pop Up
DESCRIPTION:Crafty Items by Donna is a crafting business that began with the artist\, Donna\, learning to crochet. She learned the craft from her grandmothers and mother\, and was inspired to keep their love of crafting alive through her work. Now\, she has expanded her products to include handcrafted candles. \nThis is a outdoor shopping event that is free to attend.
URL:https://theeclecticchicboutique.com/event/crafty-items-by-donna-pop-up-5/
LOCATION:The Eclectic Chic Boutique\, 547 Bloomfield Avenue\, Montclair\, NJ\, 07042\, United States
CATEGORIES:Pop Up,Shopping
ATTACH;FMTTYPE=image/png:https://theeclecticchicboutique.com/wp-content/uploads/2025/09/Crafty-Items-by-Donna-Pop-Up_October.png
GEO:40.8154765;-74.2193579
X-APPLE-STRUCTURED-LOCATION;VALUE=URI;X-ADDRESS=The Eclectic Chic Boutique 547 Bloomfield Avenue Montclair NJ 07042 United States;X-APPLE-RADIUS=500;X-TITLE=547 Bloomfield Avenue:geo:-74.2193579,40.8154765
END:VEVENT
BEGIN:VEVENT
DTSTART;TZID=America/New_York:20251019T140000
DTEND;TZID=America/New_York:20251019T190000
DTSTAMP:20260424T170426
CREATED:20250912T232945Z
LAST-MODIFIED:20251011T182749Z
UID:10000328-1760882400-1760900400@theeclecticchicboutique.com
SUMMARY:Crafty Items by Donna Pop Up
DESCRIPTION:Crafty Items by Donna is a crafting business that began with the artist\, Donna\, learning to crochet. She learned the craft from her grandmothers and mother\, and was inspired to keep their love of crafting alive through her work. Now\, she has expanded her products to include handcrafted candles. \nThis is a outdoor shopping event that is free to attend.
URL:https://theeclecticchicboutique.com/event/crafty-items-by-donna-pop-up-4/
LOCATION:The Eclectic Chic Boutique\, 547 Bloomfield Avenue\, Montclair\, NJ\, 07042\, United States
CATEGORIES:Pop Up,Shopping
ATTACH;FMTTYPE=image/png:https://theeclecticchicboutique.com/wp-content/uploads/2025/09/Crafty-Items-by-Donna-Pop-Up_October.png
GEO:40.8154765;-74.2193579
X-APPLE-STRUCTURED-LOCATION;VALUE=URI;X-ADDRESS=The Eclectic Chic Boutique 547 Bloomfield Avenue Montclair NJ 07042 United States;X-APPLE-RADIUS=500;X-TITLE=547 Bloomfield Avenue:geo:-74.2193579,40.8154765
END:VEVENT
BEGIN:VEVENT
DTSTART;TZID=America/New_York:20251025T140000
DTEND;TZID=America/New_York:20251025T190000
DTSTAMP:20260424T170426
CREATED:20250912T232744Z
LAST-MODIFIED:20250912T232744Z
UID:10000330-1761400800-1761418800@theeclecticchicboutique.com
SUMMARY:LandaStudio Pop-Up
DESCRIPTION:Swing by and check out some one-of-a-kind jewelry! Crafted by a trained artist and illustrator\, these aren’t your average pieces. Think vibrant\, handmade polymer clay creations that are bursting with artistic flair. It’s a chance to snag something truly unique and support a local maker who pours their heart into every design. \nThis is a outdoor shopping event that is free to attend.
URL:https://theeclecticchicboutique.com/event/landastudio-pop-up-2/
LOCATION:The Eclectic Chic Boutique\, 547 Bloomfield Avenue\, Montclair\, NJ\, 07042\, United States
CATEGORIES:Crystals and Wellness,Pop Up,Shopping
ATTACH;FMTTYPE=image/png:https://theeclecticchicboutique.com/wp-content/uploads/2025/09/LandaStudio-Pop-Up_October.png
GEO:40.8154765;-74.2193579
X-APPLE-STRUCTURED-LOCATION;VALUE=URI;X-ADDRESS=The Eclectic Chic Boutique 547 Bloomfield Avenue Montclair NJ 07042 United States;X-APPLE-RADIUS=500;X-TITLE=547 Bloomfield Avenue:geo:-74.2193579,40.8154765
END:VEVENT
END:VCALENDAR