BEGIN:VCALENDAR
VERSION:2.0
PRODID:-//The Eclectic Chic Boutique - ECPv6.15.20//NONSGML v1.0//EN
CALSCALE:GREGORIAN
METHOD:PUBLISH
X-ORIGINAL-URL:https://theeclecticchicboutique.com
X-WR-CALDESC:Events for The Eclectic Chic Boutique
REFRESH-INTERVAL;VALUE=DURATION:PT1H
X-Robots-Tag:noindex
X-PUBLISHED-TTL:PT1H
BEGIN:VTIMEZONE
TZID:America/New_York
BEGIN:DAYLIGHT
TZOFFSETFROM:-0500
TZOFFSETTO:-0400
TZNAME:EDT
DTSTART:20240310T070000
END:DAYLIGHT
BEGIN:STANDARD
TZOFFSETFROM:-0400
TZOFFSETTO:-0500
TZNAME:EST
DTSTART:20241103T060000
END:STANDARD
BEGIN:DAYLIGHT
TZOFFSETFROM:-0500
TZOFFSETTO:-0400
TZNAME:EDT
DTSTART:20250309T070000
END:DAYLIGHT
BEGIN:STANDARD
TZOFFSETFROM:-0400
TZOFFSETTO:-0500
TZNAME:EST
DTSTART:20251102T060000
END:STANDARD
BEGIN:DAYLIGHT
TZOFFSETFROM:-0500
TZOFFSETTO:-0400
TZNAME:EDT
DTSTART:20260308T070000
END:DAYLIGHT
BEGIN:STANDARD
TZOFFSETFROM:-0400
TZOFFSETTO:-0500
TZNAME:EST
DTSTART:20261101T060000
END:STANDARD
END:VTIMEZONE
BEGIN:VEVENT
DTSTART;TZID=America/New_York:20250315T140000
DTEND;TZID=America/New_York:20250315T190000
DTSTAMP:20260425T000850
CREATED:20250220T202506Z
LAST-MODIFIED:20250220T202506Z
UID:10000244-1742047200-1742065200@theeclecticchicboutique.com
SUMMARY:GlitterLitesNJ Pop Up - Fairy Hair
DESCRIPTION:Add a little sparkle to your hair with GlitterLitesNJ fairy hair! Fairy hair is a type of decorative hair accessory that involves threading thin\, shimmering strands into the hair to create a sparkly\, festive look. It’s often used for special occasions or events\, and can add a fun\, eye-catching touch to any hairstyle anytime! \nThis is an outdoor event. In case of inclement weather it will be moved inside. RSVP is encouraged but not required.
URL:https://theeclecticchicboutique.com/event/glitterlitesnj-pop-up-fairy-hair/
LOCATION:The Eclectic Chic Boutique\, 547 Bloomfield Avenue\, Montclair\, NJ\, 07042\, United States
CATEGORIES:Pop Up,Shopping
ATTACH;FMTTYPE=image/png:https://theeclecticchicboutique.com/wp-content/uploads/2025/02/GlitterLitesNJ-Pop-Up.png
GEO:40.8154765;-74.2193579
X-APPLE-STRUCTURED-LOCATION;VALUE=URI;X-ADDRESS=The Eclectic Chic Boutique 547 Bloomfield Avenue Montclair NJ 07042 United States;X-APPLE-RADIUS=500;X-TITLE=547 Bloomfield Avenue:geo:-74.2193579,40.8154765
END:VEVENT
END:VCALENDAR