BEGIN:VCALENDAR
VERSION:2.0
PRODID:-//The Eclectic Chic Boutique - ECPv6.15.20//NONSGML v1.0//EN
CALSCALE:GREGORIAN
METHOD:PUBLISH
X-WR-CALNAME:The Eclectic Chic Boutique
X-ORIGINAL-URL:https://theeclecticchicboutique.com
X-WR-CALDESC:Events for The Eclectic Chic Boutique
REFRESH-INTERVAL;VALUE=DURATION:PT1H
X-Robots-Tag:noindex
X-PUBLISHED-TTL:PT1H
BEGIN:VTIMEZONE
TZID:America/New_York
BEGIN:DAYLIGHT
TZOFFSETFROM:-0500
TZOFFSETTO:-0400
TZNAME:EDT
DTSTART:20230312T070000
END:DAYLIGHT
BEGIN:STANDARD
TZOFFSETFROM:-0400
TZOFFSETTO:-0500
TZNAME:EST
DTSTART:20231105T060000
END:STANDARD
BEGIN:DAYLIGHT
TZOFFSETFROM:-0500
TZOFFSETTO:-0400
TZNAME:EDT
DTSTART:20240310T070000
END:DAYLIGHT
BEGIN:STANDARD
TZOFFSETFROM:-0400
TZOFFSETTO:-0500
TZNAME:EST
DTSTART:20241103T060000
END:STANDARD
BEGIN:DAYLIGHT
TZOFFSETFROM:-0500
TZOFFSETTO:-0400
TZNAME:EDT
DTSTART:20250309T070000
END:DAYLIGHT
BEGIN:STANDARD
TZOFFSETFROM:-0400
TZOFFSETTO:-0500
TZNAME:EST
DTSTART:20251102T060000
END:STANDARD
BEGIN:DAYLIGHT
TZOFFSETFROM:-0500
TZOFFSETTO:-0400
TZNAME:EDT
DTSTART:20260308T070000
END:DAYLIGHT
BEGIN:STANDARD
TZOFFSETFROM:-0400
TZOFFSETTO:-0500
TZNAME:EST
DTSTART:20261101T060000
END:STANDARD
END:VTIMEZONE
BEGIN:VEVENT
DTSTART;TZID=America/New_York:20250823T150000
DTEND;TZID=America/New_York:20250823T170000
DTSTAMP:20260421T084114
CREATED:20250703T184051Z
LAST-MODIFIED:20250703T185611Z
UID:10000314-1755961200-1755968400@theeclecticchicboutique.com
SUMMARY:Paint & Pour Candle Making Class
DESCRIPTION:Get crafty and create your own signature scents and stunning designs at our Paint & Pour Candle Making Class! Learn the art of making luxurious coconut wax candles and personalize your container with vibrant painted artwork. It’s a hands-on experience where your creativity takes center stage. Please remember the image is just an inspiration – your final creation will be uniquely yours! \nParticipants will be provided: Coconut wax\, cotton wick\, candle vessels\, Fragrance oils\, wick tabs\, acrylic paint\, weight scale\, measuring beakers. \nParticipants will leave with: two hand painted 7oz candles \n___ \nPARTICIPATION \nThis In Person Class takes place at The Eclectic Chic Boutique located at 547 Bloomfield Ave\, Montclair NJ. Materials and tools will be provided during the class. \nAPPROPRIATE AGES FOR PARTICIPATION \nParticipants must be at least 21 years old or older and can work independently. If a participant needs a caretaker or parent to assist with the project the assisting person does not need a ticket. \nCANCELATION & RESCHEDULING \nIt is the Participant’s responsibility to contact us prior to the event if they are unable to attend for any reason. If we as the Organizers need to reschedule an event participants will be notified. \nParticipants are eligible for a refund if the request is submitted up to 7 days in advance of the class date. Participants who submit a request 6 days or less in advance are eligible for a 50% refund or an opportunity to apply credit to a future class. If participants cancel the day of the class or do not show up during the class time they are ineligible for a refund.  \nCONTACT US \nHere at The Eclectic Chic Boutique\, we offer workshops\, DIY kits\, and private sessions. You can contact us at: Kristen@TheEclecticChicBoutique.com or 862-221-0644 for more information or to book. Visit us for details on events\, classes\, and shopping. www.TheEclecticChicBoutique.com \n* Please note photos are examples of the project and will vary depending on available materials and your own interpretation.
URL:https://theeclecticchicboutique.com/event/paint-pour-candle-making-class-2/
LOCATION:The Eclectic Chic Boutique\, 547 Bloomfield Avenue\, Montclair\, NJ\, 07042\, United States
CATEGORIES:Adult,Candle Making,Painting, Drawing, Paper Crafts,Workshop
ATTACH;FMTTYPE=image/png:https://theeclecticchicboutique.com/wp-content/uploads/2025/07/Paint-Pour-Candle-Making-Class_August.png
GEO:40.8154765;-74.2193579
X-APPLE-STRUCTURED-LOCATION;VALUE=URI;X-ADDRESS=The Eclectic Chic Boutique 547 Bloomfield Avenue Montclair NJ 07042 United States;X-APPLE-RADIUS=500;X-TITLE=547 Bloomfield Avenue:geo:-74.2193579,40.8154765
END:VEVENT
BEGIN:VEVENT
DTSTART;TZID=America/New_York:20250621T150000
DTEND;TZID=America/New_York:20250621T170000
DTSTAMP:20260421T084114
CREATED:20250509T234740Z
LAST-MODIFIED:20250509T234740Z
UID:10000288-1750518000-1750525200@theeclecticchicboutique.com
SUMMARY:Paint & Pour Candle Making Class
DESCRIPTION:Get crafty and create your own signature scents and stunning designs at our Paint & Pour Candle Making Class! Learn the art of making luxurious coconut wax candles and personalize your container with vibrant painted artwork. It’s a hands-on experience where your creativity takes center stage. Please remember the image is just an inspiration – your final creation will be uniquely yours! \nParticipants will be provided: Coconut wax\, cotton wick\, candle vessels\, Fragrance oils\, wick tabs\, acrylic paint\, weight scale\, measuring beakers. \nParticipants will leave with: two hand painted 7oz candles \n___ \nPARTICIPATION \nThis In Person Class takes place at The Eclectic Chic Boutique located at 547 Bloomfield Ave\, Montclair NJ. Materials and tools will be provided during the class. \nAPPROPRIATE AGES FOR PARTICIPATION \nParticipants must be at least 21 years old or older and can work independently. If a participant needs a caretaker or parent to assist with the project the assisting person does not need a ticket. \nCANCELATION & RESCHEDULING \nIt is the Participant’s responsibility to contact us prior to the event if they are unable to attend for any reason. If we as the Organizers need to reschedule an event participants will be notified. \nParticipants are eligible for a refund if the request is submitted up to 7 days in advance of the class date. Participants who submit a request 6 days or less in advance are eligible for a 50% refund or an opportunity to apply credit to a future class. If participants cancel the day of the class or do not show up during the class time they are ineligible for a refund.  \nCONTACT US \nHere at The Eclectic Chic Boutique\, we offer workshops\, DIY kits\, and private sessions. You can contact us at: Kristen@TheEclecticChicBoutique.com or 862-221-0644 for more information or to book. Visit us for details on events\, classes\, and shopping. www.TheEclecticChicBoutique.com \n* Please note photos are examples of the project and will vary depending on available materials and your own interpretation.
URL:https://theeclecticchicboutique.com/event/paint-pour-candle-making-class/
LOCATION:The Eclectic Chic Boutique\, 547 Bloomfield Avenue\, Montclair\, NJ\, 07042\, United States
CATEGORIES:Adult,Candle Making,Painting, Drawing, Paper Crafts,Workshop
ATTACH;FMTTYPE=image/png:https://theeclecticchicboutique.com/wp-content/uploads/2025/05/Paint-Pour-Candle-Making-Class.png
GEO:40.8154765;-74.2193579
X-APPLE-STRUCTURED-LOCATION;VALUE=URI;X-ADDRESS=The Eclectic Chic Boutique 547 Bloomfield Avenue Montclair NJ 07042 United States;X-APPLE-RADIUS=500;X-TITLE=547 Bloomfield Avenue:geo:-74.2193579,40.8154765
END:VEVENT
BEGIN:VEVENT
DTSTART;TZID=America/New_York:20241117T150000
DTEND;TZID=America/New_York:20241117T163000
DTSTAMP:20260421T084114
CREATED:20241009T184310Z
LAST-MODIFIED:20241009T184854Z
UID:10000164-1731855600-1731861000@theeclecticchicboutique.com
SUMMARY:Paint and Play Fall Foliage Extravaganza  Workshop
DESCRIPTION: In this engaging and expressive painting class\, you’ll embark on a journey into the Fall landscape\, capturing and creating the transition of the season with color and your imagination. Beginner friendly! No prior painting experience necessary. You’ll learn various acrylic painting techniques to create an abstract Fall scene. From bold brushstrokes to subtle washes\, you’ll experiment with different approaches to capture the essence of the subject matter while leaving room for interpretation and personal expression.  \nPlease note that this class is messy\, so dress appropriately. Each participant will paint 1 -16”x20″ canvas art piece. This is a great class to take with friends\, family\, and coworkers. All materials are included. You will leave with a masterpiece.  \n___ \nPARTICIPATION \nThis In Person Class takes place at The Eclectic Chic Boutique located at 547 Bloomfield Ave\, Montclair NJ. \nAPPROPRIATE AGES FOR PARTICIPATION  \nThis class is appropriate for Adults and Teens to participate in. Participants must be at least 13 years old or older and can work independently. If a participant needs a caretaker or parent to assist with the project the assisting person does not need a ticket.  \nCANCELATION & RESCHEDULING \nIt is the Participant’s responsibility to contact us prior to the event if they are unable to attend for any reason. If we as the Organizers need to reschedule an event there is no rescheduling fee\, and participants will be notified of any changes \nParticipants are eligible for a refund if the request is submitted 7 days in advance of the class date. Participants who submit a request 6 days or less in advance are eligible for a 50% refund or an opportunity to apply credit to a future class. If participants cancel the day of the class or do not show up during the class time they are ineligible for a refund. \nThere is a $25 rescheduling fee to reschedule a class. You can review our Cancelation & Rescheduling policies here:  https://theeclecticchicboutique.com/class-policies/  \nCONTACT US \nHere at The Eclectic Chic Boutique\, we offer workshops\, DIY kits\, and private sessions. You can contact us at: Kristen@TheEclecticChicBoutique.com or 862-221-0644 for more information or to book. Visit us for details on events\, classes\, and shopping. www.TheEclecticChicBoutique.com \n* Please note photos are examples of the project and will vary depending on available materials and your own interpretation.
URL:https://theeclecticchicboutique.com/event/paint-and-play-fall-foliage-extravaganza-workshop/
LOCATION:The Eclectic Chic Boutique\, 547 Bloomfield Avenue\, Montclair\, NJ\, 07042\, United States
CATEGORIES:Adult,BYOB,Painting, Drawing, Paper Crafts,Teen,Workshop
ATTACH;FMTTYPE=image/png:https://theeclecticchicboutique.com/wp-content/uploads/2024/10/Paint-and-Play-Fall-Foliage-Extravaganza-Workshop.png
GEO:40.8154765;-74.2193579
X-APPLE-STRUCTURED-LOCATION;VALUE=URI;X-ADDRESS=The Eclectic Chic Boutique 547 Bloomfield Avenue Montclair NJ 07042 United States;X-APPLE-RADIUS=500;X-TITLE=547 Bloomfield Avenue:geo:-74.2193579,40.8154765
END:VEVENT
BEGIN:VEVENT
DTSTART;TZID=America/New_York:20241027T150000
DTEND;TZID=America/New_York:20241027T163000
DTSTAMP:20260421T084114
CREATED:20240822T212657Z
LAST-MODIFIED:20241025T214832Z
UID:10000144-1730041200-1730046600@theeclecticchicboutique.com
SUMMARY:Paint & Play Magical Monsters Workshop
DESCRIPTION:In this engaging and expressive painting class\, you’ll embark on a journey into the enchanting realm of monsters\, capturing your youthful essence and your imagination. Beginner friendly! No prior painting experience necessary. \nYou’ll learn various acrylic painting techniques to create abstract happy drippy creatures. From bold brushstrokes to subtle washes\, you’ll experiment with different approaches to capture the essence of the subject matter while leaving room for interpretation and personal expression. Please note that this class is messy\, so dress appropriately. Each participant will paint two 7”x 9” watercolor paper art pieces. This is a great class to take with friends\, family\, and coworkers.   All materials are included. You will leave with two masterpieces. \n___ \nPARTICIPATION \nThis In Person Class takes place at The Eclectic Chic Boutique located at 547 Bloomfield Ave\, Montclair NJ. \nAPPROPRIATE AGES FOR PARTICIPATION  \nThis class is appropriate for Adults and Teens to participate in. Participants must be at least 13 years old or older and can work independently. If a participant needs a caretaker or parent to assist with the project the assisting person does not need a ticket.  \nCANCELATION & RESCHEDULING \nIt is the Participant’s responsibility to contact us prior to the event if they are unable to attend for any reason. If we as the Organizers need to reschedule an event there is no rescheduling fee\, and participants will be notified of any changes \nParticipants are eligible for a refund if the request is submitted 7 days in advance of the class date. Participants who submit a request 6 days or less in advance are eligible for a 50% refund or an opportunity to apply credit to a future class. If participants cancel the day of the class or do not show up during the class time they are ineligible for a refund. \nThere is a $25 rescheduling fee to reschedule a class. You can review our Cancelation & Rescheduling policies here:  https://theeclecticchicboutique.com/class-policies/  \nCONTACT US \nHere at The Eclectic Chic Boutique\, we offer workshops\, DIY kits\, and private sessions. You can contact us at: Kristen@TheEclecticChicBoutique.com or 862-221-0644 for more information or to book. Visit us for details on events\, classes\, and shopping. www.TheEclecticChicBoutique.com \n* Please note photos are examples of the project and will vary depending on available materials and your own interpretation.
URL:https://theeclecticchicboutique.com/event/paint-play-magical-monsters-workshop/
LOCATION:The Eclectic Chic Boutique\, 547 Bloomfield Avenue\, Montclair\, NJ\, 07042\, United States
CATEGORIES:Adult,BYOB,Painting, Drawing, Paper Crafts,Teen,Workshop
ATTACH;FMTTYPE=image/png:https://theeclecticchicboutique.com/wp-content/uploads/2024/08/Paint-Play-Magical-Monsters-Workshop.png
GEO:40.8154765;-74.2193579
X-APPLE-STRUCTURED-LOCATION;VALUE=URI;X-ADDRESS=The Eclectic Chic Boutique 547 Bloomfield Avenue Montclair NJ 07042 United States;X-APPLE-RADIUS=500;X-TITLE=547 Bloomfield Avenue:geo:-74.2193579,40.8154765
END:VEVENT
BEGIN:VEVENT
DTSTART;TZID=America/New_York:20240721T150000
DTEND;TZID=America/New_York:20240721T163000
DTSTAMP:20260421T084114
CREATED:20240614T161052Z
LAST-MODIFIED:20240703T173352Z
UID:10000102-1721574000-1721579400@theeclecticchicboutique.com
SUMMARY:Paint & Play: Blossoming Tree Painting Class
DESCRIPTION:In this engaging and expressive painting class\, you’ll embark on a journey into the enchanting realm of semi-abstract tree blossoms\, capturing the essence and vitality of the summer. Beginner friendly! No prior painting experience necessary. \nYou’ll learn various acrylic painting techniques to create semi-abstract interpretations of tree blossoms in their Summer glory. From bold brushstrokes to subtle washes\, you’ll experiment with different approaches to capture the essence of the subject matter while leaving room for interpretation and personal expression. Please note that this class is a little messy\, so dress appropriately. \nEach participant will paint a 16″x12″ canvas art piece. This is a great class to take with friends\, family\, and coworkers. \n___ \nHOW TO PARTICIPATE IN CLASS \nIn Person Class session takes place at our shop located at 547 Bloomfield Ave\, Montclair NJ. Materials and tools will be provided during the class. Participants should bring an apron or wear clothing they don’t mind getting messy. \nAPPROPRIATE AGES FOR PARTICIPATION  \nThis class is appropriate for Adults and Teens to participate in. Participants must be at least 18 years old or older and can work independently. If a participant needs a caretaker or parent to assist with the project the assisting person does not need a ticket. \nCLASS PARTICIPATION \nThis is a Live event. Participants must attend on the scheduled date and time of the class in order to partake. It is the Participant’s responsibility to contact us prior to the event if they are unable to attend for any reason. If we as the Organizers need to reschedule an event there is no rescheduling fee\, and participants will be notified of any changes. \nCANCELATION & RESCHEDULING \nParticipants are eligible for a refund if the request is submitted 7 days in advance of the class date. Participants who submit a request 6 days or less in advance are eligible for a 50% refund or an opportunity to apply credit to a future class. If participants cancel the day of the class or do not show up during the class time they are ineligible for a refund. \nThere is a $25 rescheduling fee to reschedule a class. You can review our Cancelation & Rescheduling policies here: https://www.theeclecticchicboutique.com/class-policies.html \nCONTACT US \nFor questions about registering for a workshop or receiving your DIY Kit\, contact us at: Kristen@TheEclecticChicBoutique.com or 862-221-0644. Ask us about booking a private session for yourself\, family\, or company. We are available for corporate events. \nVisit us for more events\, classes\, and shopping at www.TheEclecticChicBoutique.com \n* Please note photos are examples of the project and will vary depending on available materials and your own interpretation.
URL:https://theeclecticchicboutique.com/event/paint-play-blossoming-tree-painting-class/
LOCATION:The Eclectic Chic Boutique\, 547 Bloomfield Avenue\, Montclair\, NJ\, 07042\, United States
CATEGORIES:Adult,BYOB,Painting, Drawing, Paper Crafts,Workshop
ATTACH;FMTTYPE=image/png:https://theeclecticchicboutique.com/wp-content/uploads/2024/06/Paint-and-Play.png
GEO:40.8154765;-74.2193579
X-APPLE-STRUCTURED-LOCATION;VALUE=URI;X-ADDRESS=The Eclectic Chic Boutique 547 Bloomfield Avenue Montclair NJ 07042 United States;X-APPLE-RADIUS=500;X-TITLE=547 Bloomfield Avenue:geo:-74.2193579,40.8154765
END:VEVENT
BEGIN:VEVENT
DTSTART;TZID=America/New_York:20240630T160000
DTEND;TZID=America/New_York:20240630T180000
DTSTAMP:20260421T084114
CREATED:20240522T223752Z
LAST-MODIFIED:20240606T222412Z
UID:10000078-1719763200-1719770400@theeclecticchicboutique.com
SUMMARY:Artist Spotlight Night: Mahogany Blu
DESCRIPTION:Celebrate the vibrant work of artist Mahogany Blu at our artist spotlight event.  Meet the artist\, mingle with fellow art lovers\, enjoy drinks and refreshments as you discover unique treasures from Mahogany Blu’s collection. \nAll About the Artist: Simone Bailey Campbell\, a Jamaican-born artist\, designer\, and entrepreneur based in Montclair\, New Jersey\, draws inspiration from her vibrant Caribbean upbringing\, urban experiences\, and love for fashion. While formally trained in interior and furniture design\, her recent focus on painting and drawing provides a fluid and intuitive outlet for expression\, guiding her through challenges and inspiring her to uplift others with her artwork. With a diverse range of mediums including acrylics\, ink\, wood\, found objects\, and sculptural beeswax candles\, Simone’s artistic pursuits extend to mural creation\, where she collaborates with communities to amplify shared ideas.
URL:https://theeclecticchicboutique.com/event/artist-spotlight-night-mahogany-blu/
LOCATION:The Eclectic Chic Boutique\, 547 Bloomfield Avenue\, Montclair\, NJ\, 07042\, United States
CATEGORIES:Pop Up
ATTACH;FMTTYPE=image/png:https://theeclecticchicboutique.com/wp-content/uploads/2024/05/Artist-Spotlight-Night-Mahogany-Blu-1.png
GEO:40.8154765;-74.2193579
X-APPLE-STRUCTURED-LOCATION;VALUE=URI;X-ADDRESS=The Eclectic Chic Boutique 547 Bloomfield Avenue Montclair NJ 07042 United States;X-APPLE-RADIUS=500;X-TITLE=547 Bloomfield Avenue:geo:-74.2193579,40.8154765
END:VEVENT
END:VCALENDAR