BEGIN:VCALENDAR
VERSION:2.0
PRODID:-//The Eclectic Chic Boutique - ECPv6.15.20//NONSGML v1.0//EN
CALSCALE:GREGORIAN
METHOD:PUBLISH
X-ORIGINAL-URL:https://theeclecticchicboutique.com
X-WR-CALDESC:Events for The Eclectic Chic Boutique
REFRESH-INTERVAL;VALUE=DURATION:PT1H
X-Robots-Tag:noindex
X-PUBLISHED-TTL:PT1H
BEGIN:VTIMEZONE
TZID:America/New_York
BEGIN:DAYLIGHT
TZOFFSETFROM:-0500
TZOFFSETTO:-0400
TZNAME:EDT
DTSTART:20240310T070000
END:DAYLIGHT
BEGIN:STANDARD
TZOFFSETFROM:-0400
TZOFFSETTO:-0500
TZNAME:EST
DTSTART:20241103T060000
END:STANDARD
BEGIN:DAYLIGHT
TZOFFSETFROM:-0500
TZOFFSETTO:-0400
TZNAME:EDT
DTSTART:20250309T070000
END:DAYLIGHT
BEGIN:STANDARD
TZOFFSETFROM:-0400
TZOFFSETTO:-0500
TZNAME:EST
DTSTART:20251102T060000
END:STANDARD
BEGIN:DAYLIGHT
TZOFFSETFROM:-0500
TZOFFSETTO:-0400
TZNAME:EDT
DTSTART:20260308T070000
END:DAYLIGHT
BEGIN:STANDARD
TZOFFSETFROM:-0400
TZOFFSETTO:-0500
TZNAME:EST
DTSTART:20261101T060000
END:STANDARD
END:VTIMEZONE
BEGIN:VEVENT
DTSTART;TZID=America/New_York:20250614T110000
DTEND;TZID=America/New_York:20250726T121500
DTSTAMP:20260420T091604
CREATED:20250530T220243Z
LAST-MODIFIED:20250603T191307Z
UID:10000294-1749898800-1753532100@theeclecticchicboutique.com
SUMMARY:Summer STEAM Program
DESCRIPTION:Get ready for an exciting Summer of STEAM programs at the Newark Public Library! Designed for children ages 5-10\, ECB’s STEAM Program sparks curiosity and creativity. Kids will dive into hands-on science\, technology\, engineering\, art\, and math projects each week. Led by Mrs. Carrie\, a former preschool arts teacher with 10 years of experience\, this program offers a unique blend of learning and fun in Newark\, NJ. Discover the magic of STEAM education this summer! \nThis is Not a drop off event. Kids need a parent or guardian on-site. Kids should wear clothes that they don’t mind getting messy. \nRegistration is encouraged so everyone can have a great experience. If you are unable to bring your child to a registered session please contact us so we can move you to a different date. \nThis series brought to you by Audible.
URL:https://theeclecticchicboutique.com/event/summer-steam-program/
LOCATION:Newark Public Library\, 5 Washington St\, Newark\, NJ\, 07102\, United States
CATEGORIES:Community Event,Kids,Special Event,Workshop
ATTACH;FMTTYPE=image/png:https://theeclecticchicboutique.com/wp-content/uploads/2025/05/Summer-STEAM-Program-at.png
ORGANIZER;CN="Kristen Zachares":MAILTO:Kristen@TheEclecticChicBoutique
END:VEVENT
END:VCALENDAR